BEGIN:VCALENDAR
VERSION:2.0
PRODID:-//Taos Ski Valley - ECPv6.15.20//NONSGML v1.0//EN
CALSCALE:GREGORIAN
METHOD:PUBLISH
X-ORIGINAL-URL:https://taosskivalley.com
X-WR-CALDESC:Events for Taos Ski Valley
REFRESH-INTERVAL;VALUE=DURATION:PT1H
X-Robots-Tag:noindex
X-PUBLISHED-TTL:PT1H
BEGIN:VTIMEZONE
TZID:UTC
BEGIN:STANDARD
TZOFFSETFROM:+0000
TZOFFSETTO:+0000
TZNAME:UTC
DTSTART:20250101T000000
END:STANDARD
END:VTIMEZONE
BEGIN:VTIMEZONE
TZID:America/Chicago
BEGIN:DAYLIGHT
TZOFFSETFROM:-0600
TZOFFSETTO:-0500
TZNAME:CDT
DTSTART:20250309T080000
END:DAYLIGHT
BEGIN:STANDARD
TZOFFSETFROM:-0500
TZOFFSETTO:-0600
TZNAME:CST
DTSTART:20251102T070000
END:STANDARD
BEGIN:DAYLIGHT
TZOFFSETFROM:-0600
TZOFFSETTO:-0500
TZNAME:CDT
DTSTART:20260308T080000
END:DAYLIGHT
BEGIN:STANDARD
TZOFFSETFROM:-0500
TZOFFSETTO:-0600
TZNAME:CST
DTSTART:20261101T070000
END:STANDARD
BEGIN:DAYLIGHT
TZOFFSETFROM:-0600
TZOFFSETTO:-0500
TZNAME:CDT
DTSTART:20270314T080000
END:DAYLIGHT
BEGIN:STANDARD
TZOFFSETFROM:-0500
TZOFFSETTO:-0600
TZNAME:CST
DTSTART:20271107T070000
END:STANDARD
END:VTIMEZONE
BEGIN:VTIMEZONE
TZID:America/Denver
BEGIN:DAYLIGHT
TZOFFSETFROM:-0700
TZOFFSETTO:-0600
TZNAME:MDT
DTSTART:20250309T090000
END:DAYLIGHT
BEGIN:STANDARD
TZOFFSETFROM:-0600
TZOFFSETTO:-0700
TZNAME:MST
DTSTART:20251102T080000
END:STANDARD
BEGIN:DAYLIGHT
TZOFFSETFROM:-0700
TZOFFSETTO:-0600
TZNAME:MDT
DTSTART:20260308T090000
END:DAYLIGHT
BEGIN:STANDARD
TZOFFSETFROM:-0600
TZOFFSETTO:-0700
TZNAME:MST
DTSTART:20261101T080000
END:STANDARD
BEGIN:DAYLIGHT
TZOFFSETFROM:-0700
TZOFFSETTO:-0600
TZNAME:MDT
DTSTART:20270314T090000
END:DAYLIGHT
BEGIN:STANDARD
TZOFFSETFROM:-0600
TZOFFSETTO:-0700
TZNAME:MST
DTSTART:20271107T080000
END:STANDARD
END:VTIMEZONE
BEGIN:VEVENT
DTSTART;TZID=UTC:20260627T090000
DTEND;TZID=UTC:20260627T163000
DTSTAMP:20260422T234231
CREATED:20260414T194153Z
LAST-MODIFIED:20260414T194116Z
UID:10000527-1782550800-1782577800@taosskivalley.com
SUMMARY:Taos Ski Valley Community Day
DESCRIPTION:Enjoy the mountain with FREE activities all day long at Taos Ski Vallley Community Day! Complimentary Scenic Lift Rides\, live music\, complimentary refreshments\, prizes and family-friendly activities! \nFull Event Schedule: TBA
URL:https://taosskivalley.com/event/community-day/
LOCATION:Taos Ski Valley Resort Plaza\, 200 Thunderbird Road\, Taos Ski Valley\, NM\, 87525\, United States
ATTACH;FMTTYPE=image/jpeg:https://taosskivalley.com/wp-content/uploads/2024/04/taos-community-day-summer-2026-temp_event.jpg
END:VEVENT
BEGIN:VEVENT
DTSTART;TZID=America/Chicago:20260718T100000
DTEND;TZID=America/Chicago:20260719T160000
DTSTAMP:20260422T234231
CREATED:20260414T194745Z
LAST-MODIFIED:20260414T194756Z
UID:10000481-1784368800-1784476800@taosskivalley.com
SUMMARY:Taos Ski Valley Arts Festival
DESCRIPTION:The Taos Ski Valley Arts Festival is returning on Saturday\, July 18-19\, 2026. Celebrate creativity in the mountains! Enjoy a weekend of art and live music in a stunning alpine setting. Free and family-friendly\, experience the vibrant artistic spirit of Taos. \n\n\n\nSchedule TBA \n\n\nApply to be a vendor here!
URL:https://taosskivalley.com/event/taos-ski-valley-arts-festival/
LOCATION:Taos Ski Valley Resort Plaza\, 200 Thunderbird Road\, Taos Ski Valley\, NM\, 87525\, United States
ATTACH;FMTTYPE=image/jpeg:https://taosskivalley.com/wp-content/uploads/2022/07/taos-arts-festival-deer_event.jpg
END:VEVENT
BEGIN:VEVENT
DTSTART;VALUE=DATE:20260801
DTEND;VALUE=DATE:20260803
DTSTAMP:20260422T234231
CREATED:20260413T222246Z
LAST-MODIFIED:20260413T225839Z
UID:10000482-1785542400-1785715199@taosskivalley.com
SUMMARY:Up & Over 10k Trail Run Weekend
DESCRIPTION:20th Annual Taos Ski Valley Up & Over 10k Trail Run\nSaturday & Sunday\, August 1-2\, 2026\n20th Annual Up & Over 10k\nSpanning the first weekend of August\, the Up & Over weekend challenges runners with a demanding 10K Trail Run course on Saturday\, August 2nd. On Sunday runners can take on the newest event\, the VerticAL’s VertK\, sure to become a classic. \nSaturday’s Up & Over 10K is notoriously challenging with many runners returning year-after-year to beat their PBs. There are many groups that run together; friends\, co-workers\, and whole families who want to take on the mountain. The course is a formidable and scenic 2\,612’ climb from 9\,321′ at the base\, topping out at 11\,819′. Expect amazing views of Kachina and Wheeler Peaks\, followed by a technical descent through high alpine terrain. \n4th Annual Vertic-AL’s Vert-K\nOn Sunday is the VerticAL’s Vert-K\, a daunting vertical 1K up TAOS’s Al’s Run. In winter\, Al’s is an intimidating long\, steep black diamond ski run directly under Lift 1\, carved with seemingly infinite measure of moguls. VerticAL’s participants will scramble up from the base to the finish at the top of Al’s  – a grueling gain of 1\,497’. Due to the demanding terrain\, this event will be open to participants 16+ years old. \nDouble Trouble\nAll events offer incredible views of the mountains while the Up & Over and VerticAL’s are sure to push runners to their limits. Participants can choose to run one\, or both events for the ultimate Up & Over challenge – the “Double Trouble”! Special prizes awarded to top male and female Double Trouble combined time winners. \nFind More Information & Registration
URL:https://taosskivalley.com/event/taos-ski-valley-up-and-over-10k-trail-run/
LOCATION:Taos Ski Valley Resort Plaza\, 200 Thunderbird Road\, Taos Ski Valley\, NM\, 87525\, United States
ATTACH;FMTTYPE=image/jpeg:https://taosskivalley.com/wp-content/uploads/2026/04/upover-trail-run-weekend-2026-event.jpg
END:VEVENT
BEGIN:VEVENT
DTSTART;VALUE=DATE:20260905
DTEND;VALUE=DATE:20260906
DTSTAMP:20260422T234231
CREATED:20260414T205617Z
LAST-MODIFIED:20260414T205656Z
UID:10000484-1788566400-1788652799@taosskivalley.com
SUMMARY:Bull of the Woods Trail Races & Kachina Peak Marathon
DESCRIPTION:Welcome to the 10th year of Bull of the Woods Trail Races in Taos Ski Valley\, New Mexico! In 2026\, we are excited to host two different half marathon and one full marathon distances! The trail marathon and the Taos Ski Valley half marathon distance will take you to Kachina Peak at 12\,481ft then you will continue on to the Northside half marathon course where you will climb Fraser Peak at 12\,168ft! You will span the entire Taos Ski Valley on this course\, truly giving you some much deserved trail-cred! The Northside half marathon will follow the previous years\, primarily tight single-track course on Northside trail system\, maximizing your trail-fun and big-trail-views. Visit our website to register now! \nRegistration is open! For more information\, course description\, race details\, and to register: Bull of the Woods Trail Races
URL:https://taosskivalley.com/event/bull-of-the-woods-trail-races-taos/
LOCATION:Taos Ski Valley Resort Plaza\, 200 Thunderbird Road\, Taos Ski Valley\, NM\, 87525\, United States
ATTACH;FMTTYPE=image/jpeg:https://taosskivalley.com/wp-content/uploads/2025/08/bull-of-the-woods-2026_event.jpg
END:VEVENT
BEGIN:VEVENT
DTSTART;TZID=UTC:20260926T100000
DTEND;TZID=UTC:20260927T170000
DTSTAMP:20260422T234231
CREATED:20260414T210254Z
LAST-MODIFIED:20260414T210230Z
UID:10000474-1790416800-1790528400@taosskivalley.com
SUMMARY:Oktoberfest at Taos Ski Valley
DESCRIPTION:Dust off those lederhosen and dirndls folks\, because Oktoberfest at Taos Ski Valley is back! Help us celebrate the turning of the seasons Saturday & Sunday\, September 26th & 27th! \nLive Music\, German beer and food\, stein holding contests\, pretzel eating contests\, the crowning of Mr. and Mrs. Oktoberfest\, crafts for kids and so much more! \nPurchase your tickets today! \nEvent Schedule: TBA
URL:https://taosskivalley.com/event/oktoberfest-taos-ski-valley/
LOCATION:Taos Ski Valley Resort Plaza\, 200 Thunderbird Road\, Taos Ski Valley\, NM\, 87525\, United States
ATTACH;FMTTYPE=image/jpeg:https://taosskivalley.com/wp-content/uploads/2024/04/oktoberfest-lederhosen-dirndl-couple-dog-taos_event.jpg
END:VEVENT
END:VCALENDAR