BEGIN:VCALENDAR
VERSION:2.0
PRODID:-//Taos Ski Valley - ECPv6.15.20//NONSGML v1.0//EN
CALSCALE:GREGORIAN
METHOD:PUBLISH
X-WR-CALNAME:Taos Ski Valley
X-ORIGINAL-URL:https://taosskivalley.com
X-WR-CALDESC:Events for Taos Ski Valley
REFRESH-INTERVAL;VALUE=DURATION:PT1H
X-Robots-Tag:noindex
X-PUBLISHED-TTL:PT1H
BEGIN:VTIMEZONE
TZID:UTC
BEGIN:STANDARD
TZOFFSETFROM:+0000
TZOFFSETTO:+0000
TZNAME:UTC
DTSTART:20240101T000000
END:STANDARD
END:VTIMEZONE
BEGIN:VTIMEZONE
TZID:America/Denver
BEGIN:DAYLIGHT
TZOFFSETFROM:-0700
TZOFFSETTO:-0600
TZNAME:MDT
DTSTART:20240310T090000
END:DAYLIGHT
BEGIN:STANDARD
TZOFFSETFROM:-0600
TZOFFSETTO:-0700
TZNAME:MST
DTSTART:20241103T080000
END:STANDARD
BEGIN:DAYLIGHT
TZOFFSETFROM:-0700
TZOFFSETTO:-0600
TZNAME:MDT
DTSTART:20250309T090000
END:DAYLIGHT
BEGIN:STANDARD
TZOFFSETFROM:-0600
TZOFFSETTO:-0700
TZNAME:MST
DTSTART:20251102T080000
END:STANDARD
BEGIN:DAYLIGHT
TZOFFSETFROM:-0700
TZOFFSETTO:-0600
TZNAME:MDT
DTSTART:20260308T090000
END:DAYLIGHT
BEGIN:STANDARD
TZOFFSETFROM:-0600
TZOFFSETTO:-0700
TZNAME:MST
DTSTART:20261101T080000
END:STANDARD
END:VTIMEZONE
BEGIN:VEVENT
DTSTART;VALUE=DATE:20250904
DTEND;VALUE=DATE:20250907
DTSTAMP:20260423T103743
CREATED:20250822T223130Z
LAST-MODIFIED:20250902T170101Z
UID:10000486-1756944000-1757203199@taosskivalley.com
SUMMARY:Big Barn Dance Music Festival
DESCRIPTION:Michael Hearne’s Big Barn Dance Music Festival is coming to beautiful Taos\, NM this September. We are proudly celebrating 23 amazing years of bringing the best of Americana\, Country\, Folk and Bluegrass music to northern New Mexico. Get ready to bring your listening ears and your dancing feet as we celebrate Michael Hearne’s 23rd Annual Big Barn Dance in Taos\, NM! \nFor more information\, schedule and tickets.
URL:https://taosskivalley.com/event/big-barn-dance-music-festival/
LOCATION:Red Willow Park\, Town of Taos\, 211 Paseo Del Pueblo Norte\, Taos\, NM\, 87571
CATEGORIES:Featured Event
ATTACH;FMTTYPE=image/jpeg:https://taosskivalley.com/wp-content/uploads/2024/03/big-barb-dance-2025_event.jpg
END:VEVENT
BEGIN:VEVENT
DTSTART;TZID=America/Denver:20250906T190000
DTEND;TZID=America/Denver:20250907T000000
DTSTAMP:20260423T103743
CREATED:20250902T183525Z
LAST-MODIFIED:20250905T175145Z
UID:10004574-1757185200-1757203200@taosskivalley.com
SUMMARY:Le Cube — Step Into the Dream Machine
DESCRIPTION:Step Into the Dream Machine: An Immersive Night of Underground Electronic Music & Visuals \nTaos is about to be transported into another dimension of sound and vision. On Saturday\, September 6th\, 2025\, the Kogen DJ Collective and Wonder and Light invite you into The Dream Machine at DALEEE KTAOS—an electrifying fusion of underground electronic music and immersive visuals\, featuring minimal\, house and techno all night. \nAt the center of the experience stands Le Cube—a towering structure brought to life with projection mapping that turns architecture into moving art. Visuals are designed by a Meow Wolf NYC audiovisual engineer\, transforming the dance floor into a living\, breathing canvas. \nhttps://ticketscandy.com/e/le-cube-at-daleee-ktaos-solar-center-11407 \nPrice: $12 Early Bird; $20 Door
URL:https://taosskivalley.com/event/le-cube-step-into-the-dream-machine/
LOCATION:DALEEE KTAOS\, 9 NM Hwy. 150\, El Prado\, NM\, 87529\, United States
CATEGORIES:Featured Event
ATTACH;FMTTYPE=image/jpeg:https://taosskivalley.com/wp-content/uploads/2025/09/le-cube-daleee_event.jpg
END:VEVENT
END:VCALENDAR