BEGIN:VCALENDAR
VERSION:2.0
PRODID:-//Taos Ski Valley - ECPv6.15.20//NONSGML v1.0//EN
CALSCALE:GREGORIAN
METHOD:PUBLISH
X-ORIGINAL-URL:https://taosskivalley.com
X-WR-CALDESC:Events for Taos Ski Valley
REFRESH-INTERVAL;VALUE=DURATION:PT1H
X-Robots-Tag:noindex
X-PUBLISHED-TTL:PT1H
BEGIN:VTIMEZONE
TZID:America/Denver
BEGIN:DAYLIGHT
TZOFFSETFROM:-0700
TZOFFSETTO:-0600
TZNAME:MDT
DTSTART:20240310T090000
END:DAYLIGHT
BEGIN:STANDARD
TZOFFSETFROM:-0600
TZOFFSETTO:-0700
TZNAME:MST
DTSTART:20241103T080000
END:STANDARD
BEGIN:DAYLIGHT
TZOFFSETFROM:-0700
TZOFFSETTO:-0600
TZNAME:MDT
DTSTART:20250309T090000
END:DAYLIGHT
BEGIN:STANDARD
TZOFFSETFROM:-0600
TZOFFSETTO:-0700
TZNAME:MST
DTSTART:20251102T080000
END:STANDARD
BEGIN:DAYLIGHT
TZOFFSETFROM:-0700
TZOFFSETTO:-0600
TZNAME:MDT
DTSTART:20260308T090000
END:DAYLIGHT
BEGIN:STANDARD
TZOFFSETFROM:-0600
TZOFFSETTO:-0700
TZNAME:MST
DTSTART:20261101T080000
END:STANDARD
END:VTIMEZONE
BEGIN:VEVENT
DTSTART;TZID=America/Denver:20250827T190000
DTEND;TZID=America/Denver:20250827T210000
DTSTAMP:20260423T035914
CREATED:20250819T200247Z
LAST-MODIFIED:20250825T170242Z
UID:10004534-1756321200-1756328400@taosskivalley.com
SUMMARY:Max Gomez – Memory Mountain Album Release Concert
DESCRIPTION:Hometown favorite Max Gomez returns to DALEEE on Wed\, Aug 27 to celebrate his brand new Memory Mountain Album Release Concert. \nA milestone both musically and personally\, this record was captured live-in-the-room with producer Mark Howard\, delivering the raw\, honest tone only that process can create. It also marks the launch of Max’s own independent label\, Marveltone Records. \nAug 27\, 2025 | Doors 7 PM | Show 8 PM | All Ages \nVIP Reserved $40 | GA $30 \nTickets available at the door after 7 PM day of show. \nhttps://tickets.holdmyticket.com/tickets/449204?tc=hmt
URL:https://taosskivalley.com/event/max-gomez-memory-mountain-album-release-concert/
LOCATION:DALEEE KTAOS\, 9 NM Hwy. 150\, El Prado\, NM\, 87529\, United States
CATEGORIES:Featured Event
ATTACH;FMTTYPE=image/jpeg:https://taosskivalley.com/wp-content/uploads/2025/08/max-gomez-daleee-082725_event.jpg
END:VEVENT
END:VCALENDAR