BEGIN:VCALENDAR
VERSION:2.0
PRODID:-//Taos Ski Valley - ECPv6.15.20//NONSGML v1.0//EN
CALSCALE:GREGORIAN
METHOD:PUBLISH
X-WR-CALNAME:Taos Ski Valley
X-ORIGINAL-URL:https://taosskivalley.com
X-WR-CALDESC:Events for Taos Ski Valley
REFRESH-INTERVAL;VALUE=DURATION:PT1H
X-Robots-Tag:noindex
X-PUBLISHED-TTL:PT1H
BEGIN:VTIMEZONE
TZID:UTC
BEGIN:STANDARD
TZOFFSETFROM:+0000
TZOFFSETTO:+0000
TZNAME:UTC
DTSTART:20240101T000000
END:STANDARD
END:VTIMEZONE
BEGIN:VEVENT
DTSTART;TZID=UTC:20250728T193000
DTEND;TZID=UTC:20250728T210000
DTSTAMP:20260423T023145
CREATED:20250602T224822Z
LAST-MODIFIED:20250725T220613Z
UID:10000698-1753731000-1753736400@taosskivalley.com
SUMMARY:Brentano Quartet with pianist Thomas Sauer
DESCRIPTION:Since its inception in 1992\, the Brentano String Quartet has appeared throughout the world to popular and critical acclaim. “Passionate\, uninhibited and spellbinding\,” raves the London Independent; the New York Times extols its “luxuriously warm sound [and] yearning lyricism”; the Philadelphia Inquirer praises its “seemingly infallible instincts for finding the center of gravity in every phrase and musical gesture”; and the Times (London) opines\, “the Brentanos are a magnificent string quartet…This was wonderful\, selfless music-making.” The Quartet has performed across five continents in the world’s most prestigious venues\, including Carnegie Hall in New York; the Library of Congress in Washington; the Concertgebouw in Amsterdam; the Konzerthaus in Vienna; Tokyo’s Suntory hall; and the Sydney Opera House. Festival appearances include Aspen\, the Ojai Music Festival\, the Edinburgh Festival\, the Kuhmo Festival in Finland\, and the Seoul Spring Festival of Chamber Music. \nRepertoire:\nHaydn Quartet in C Major\, Op. 54 No.2\nAmy Beach Piano Quintet\n—-\nDvorak Quartet in G Major \, op. 106 \nWith a ticket\, enjoy a 20% discount on food at Doc Martin’s Restaurant at The Historic Taos Inn after the concert. \nLearn more about the Brentano Quartet: \n\nQuartet website: https://www.brentanoquartet.com/\n\nPreview performance: https://youtu.be/E1_AqZzVUfo\n\nPianist Thomas Sauer is highly sought after as soloist\, chamber musician\, and teacher. Recent appearances include concerto performances with the Quad-City and Tallahassee Symphonies; solo performances at Carnegie Hall and St. John’s College\, Oxford; and performances with the Chamber Music Societies of Lincoln Center and Philadelphia. \nWith his long-time duo partner Colin Carr\, Mr. Sauer has appeared at the Wigmore Hall (London)\, the Amsterdam Concertgebouw\, Bargemusic (New York City)\, the Isabella Stewart Gardner Museum (Boston)\, and Princeton University among many other venues. He has performed with members of the Juilliard String Quartet at the Library of Congress and given numerous concerts with the Brentano String Quartet. Other performances have taken place at the leading festivals in the United States and abroad\, including Marlboro\, Caramoor\, Music@ Menlo\, Chamber Music Northwest\, and Taos\, as well as Lake District Summer Music (England)\, Agassiz (Canada)\, and Festival des Consonances (France). \nA faculty member of both Vassar College and Mannes College The New School for Music\, Mr. Sauer is the founder and director of the Mannes Beethoven Institute\, now in its fifth season.
URL:https://taosskivalley.com/event/brentano-quartet-with-pianist-thomas-sauer/
LOCATION:Taos Center for the Arts\, 145 Paseo Del Pueblo Norte\, Taos\, NM\, 87571\, United States
CATEGORIES:Featured Event
ATTACH;FMTTYPE=image/jpeg:https://taosskivalley.com/wp-content/uploads/2025/06/brentano-quartet-thomas-sauer-2025_event.jpg
END:VEVENT
END:VCALENDAR