BEGIN:VCALENDAR
VERSION:2.0
PRODID:-//Taos Ski Valley - ECPv6.15.20//NONSGML v1.0//EN
CALSCALE:GREGORIAN
METHOD:PUBLISH
X-ORIGINAL-URL:https://taosskivalley.com
X-WR-CALDESC:Events for Taos Ski Valley
REFRESH-INTERVAL;VALUE=DURATION:PT1H
X-Robots-Tag:noindex
X-PUBLISHED-TTL:PT1H
BEGIN:VTIMEZONE
TZID:America/Denver
BEGIN:DAYLIGHT
TZOFFSETFROM:-0700
TZOFFSETTO:-0600
TZNAME:MDT
DTSTART:20240310T090000
END:DAYLIGHT
BEGIN:STANDARD
TZOFFSETFROM:-0600
TZOFFSETTO:-0700
TZNAME:MST
DTSTART:20241103T080000
END:STANDARD
BEGIN:DAYLIGHT
TZOFFSETFROM:-0700
TZOFFSETTO:-0600
TZNAME:MDT
DTSTART:20250309T090000
END:DAYLIGHT
BEGIN:STANDARD
TZOFFSETFROM:-0600
TZOFFSETTO:-0700
TZNAME:MST
DTSTART:20251102T080000
END:STANDARD
BEGIN:DAYLIGHT
TZOFFSETFROM:-0700
TZOFFSETTO:-0600
TZNAME:MDT
DTSTART:20260308T090000
END:DAYLIGHT
BEGIN:STANDARD
TZOFFSETFROM:-0600
TZOFFSETTO:-0700
TZNAME:MST
DTSTART:20261101T080000
END:STANDARD
END:VTIMEZONE
BEGIN:VEVENT
DTSTART;TZID=America/Denver:20250724T170000
DTEND;TZID=America/Denver:20250724T180000
DTSTAMP:20260423T023703
CREATED:20250602T220908Z
LAST-MODIFIED:20250708T195157Z
UID:10003852-1753376400-1753380000@taosskivalley.com
SUMMARY:Taos School of Music: Free Faculty Seminar
DESCRIPTION:The Taos School of Music free faculty seminar. Famed cellist Michael Kannen\, leads you through a musical journey of discovery\, along with his musical colleagues Todd Phillips and Carmit Zori\, violins and Maria Lambros\, viola. \nJuly 24th\, Famed pianist and pedagogue\, Thomas Sauer\, leads you through a musical journey of discovery. \nWith a ticket\, enjoy a 20% discount on food at 192 at the Blake in Taos Ski Valley after the concert. \nDoors 4:30pm\, Concert 5-6pm\nAll ages
URL:https://taosskivalley.com/event/taos-school-of-music-free-faculty-seminar/2025-07-24/
LOCATION:Rio Hondo Learning Center\, 5 Firehouse Road\, Taos Ski Valley\, NM\, 87525
CATEGORIES:Featured Event
ATTACH;FMTTYPE=image/jpeg:https://taosskivalley.com/wp-content/uploads/2025/06/tsom-michael-kannen_event.jpg
END:VEVENT
BEGIN:VEVENT
DTSTART;TZID=America/Denver:20250724T200000
DTEND;TZID=America/Denver:20250724T220000
DTSTAMP:20260423T023703
CREATED:20250715T183337Z
LAST-MODIFIED:20250721T164223Z
UID:10004390-1753387200-1753394400@taosskivalley.com
SUMMARY:The Lonn Calanca Band with Brian Melvin
DESCRIPTION:The Lonn Calanca Band with Brian Melvin\, a night of jazz-rock fusion\, Dead-inspired grooves\, and soul-stirring improvisation. \nFeaturing world-renowned drummer Brian Melvin (Jaco Pastorius\, Bob Weir) with The Lonn Calanca Band — a powerhouse of local talent and deep musical spirit. \nJoin us Thursday\, July 24\nDoors 7 PM | Show 8 PM | $10 advance / $15 day-of | All Ages \nLet the rhythms roll in Taos! \nTickets: https://tickets.holdmyticket.com/tickets/450100
URL:https://taosskivalley.com/event/the-lonn-calanca-band-with-brian-melvin/
LOCATION:DALEEE KTAOS\, 9 NM Hwy. 150\, El Prado\, NM\, 87529\, United States
CATEGORIES:Featured Event
ATTACH;FMTTYPE=image/jpeg:https://taosskivalley.com/wp-content/uploads/2025/07/the-lonn-calanca-band-daleee_event.jpg
END:VEVENT
END:VCALENDAR