BEGIN:VCALENDAR
VERSION:2.0
PRODID:-//Taos Ski Valley - ECPv6.15.20//NONSGML v1.0//EN
CALSCALE:GREGORIAN
METHOD:PUBLISH
X-WR-CALNAME:Taos Ski Valley
X-ORIGINAL-URL:https://taosskivalley.com
X-WR-CALDESC:Events for Taos Ski Valley
REFRESH-INTERVAL;VALUE=DURATION:PT1H
X-Robots-Tag:noindex
X-PUBLISHED-TTL:PT1H
BEGIN:VTIMEZONE
TZID:America/Denver
BEGIN:DAYLIGHT
TZOFFSETFROM:-0700
TZOFFSETTO:-0600
TZNAME:MDT
DTSTART:20240310T090000
END:DAYLIGHT
BEGIN:STANDARD
TZOFFSETFROM:-0600
TZOFFSETTO:-0700
TZNAME:MST
DTSTART:20241103T080000
END:STANDARD
BEGIN:DAYLIGHT
TZOFFSETFROM:-0700
TZOFFSETTO:-0600
TZNAME:MDT
DTSTART:20250309T090000
END:DAYLIGHT
BEGIN:STANDARD
TZOFFSETFROM:-0600
TZOFFSETTO:-0700
TZNAME:MST
DTSTART:20251102T080000
END:STANDARD
BEGIN:DAYLIGHT
TZOFFSETFROM:-0700
TZOFFSETTO:-0600
TZNAME:MDT
DTSTART:20260308T090000
END:DAYLIGHT
BEGIN:STANDARD
TZOFFSETFROM:-0600
TZOFFSETTO:-0700
TZNAME:MST
DTSTART:20261101T080000
END:STANDARD
END:VTIMEZONE
BEGIN:VEVENT
DTSTART;TZID=America/Denver:20250715T190000
DTEND;TZID=America/Denver:20250715T220000
DTSTAMP:20260423T023319
CREATED:20250708T194940Z
LAST-MODIFIED:20250708T200224Z
UID:10004381-1752606000-1752616800@taosskivalley.com
SUMMARY:Mountain Grass Unit
DESCRIPTION:Mountain Grass Unit\, from Birmingham\, Alabama\, is a young quartet redefining bluegrass with a fresh narrative. Comprised of Drury Anderson (mandolin\, vocals)\, Luke Black (guitar\, vocals)\, Josiah Nelson (fiddle\, vocals)\, and Sam Wilson (bass\, vocals)\, they blend tradition with bold exploration. \n2024 marked a turning point with performances at Renewal\, DelFest and WinterWondergrass\, broadening their audience and deepening their musical exploration. With plans for extensive touring\, festival sets\, and new music\, Mountain Grass Unit is ready to share their luminous sound with the world\, each performance a new chapter in their unfolding story. \n$25 Advance\, $30 Door
URL:https://taosskivalley.com/event/mountain-grass-unit/
LOCATION:Taos Mothership\, 20 ABC Mesa Rd.\, El Prado\, NM\, 87529
CATEGORIES:Featured Event
ATTACH;FMTTYPE=image/jpeg:https://taosskivalley.com/wp-content/uploads/2025/07/mountain-grass-unit-071525-tmb_event.jpg
END:VEVENT
BEGIN:VEVENT
DTSTART;TZID=America/Denver:20250715T193000
DTEND;TZID=America/Denver:20250715T203000
DTSTAMP:20260423T023319
CREATED:20250602T223720Z
LAST-MODIFIED:20250708T200242Z
UID:10002110-1752607800-1752611400@taosskivalley.com
SUMMARY:Pianist Robert McDonald
DESCRIPTION:Robert McDonald\, legendary pianist’s exclusive solo appearance. \nProgram:\nBeethoven Sonata Op. 28\nBrahms Four Pieces for Piano Op. 119\nGrieg Lyric Pieces\nCopland Piano Variations \n\nWith a ticket\, enjoy a 20% discount on food at Doc Martin’s Restaurant at The Historic Taos Inn after the concert.\n\n\n\n\nRobert McDonald\, Pianist\nPianist Robert McDonald has played extensively as a soloist and chamber musician throughout the United States\, Europe\, Asia\, and South America.  He has appeared with major orchestras in the United States and Latin America\, and was the recital partner for many years to Isaac Stern\, as well as other celebrated instrumentalists. Mr. McDonald has also performed with the Takács\, Vermeer\, Juilliard\, Brentano\, Borromeo\, American\, and Shanghai string quartets\, and in tours with Music from Marlboro. \nHis discography includes recordings for Sony Classical\, Bridge\, Vox\, Musical Heritage Society\, ASV\, and CRI\, and Mr. McDonald’s prizes include the Gold Medal at the Busoni International Piano Competition\, the William Kapell International Competition\, and the Deutsche Schallplatten Critics Award. He has studied with Theodore Rehl\, Seymour Lipkin\, Rudolf Serkin\, Mieczyslaw Horszowski\, Beveridge Webster\, and Gary Graffman\, and holds degrees from Lawrence University\, The Curtis Institute of Music\, The Juilliard School\, and the Manhattan School of Music. \nA member of the piano faculty at the Juilliard School since 1999\, Mr. McDonald joined the faculty of the Curtis Institute of Music in 2007. In addition to coaching piano at Taos School of Music\, he is also the school’s artistic director. This will be his forty-first summer in Taos. \n\n\njuilliard.edu/music/faculty/mcdonald-robert
URL:https://taosskivalley.com/event/pianist-robert-mcdonald/
LOCATION:Taos Center for the Arts\, 145 Paseo Del Pueblo Norte\, Taos\, NM\, 87571\, United States
CATEGORIES:Featured Event
ATTACH;FMTTYPE=image/jpeg:https://taosskivalley.com/wp-content/uploads/2024/07/robert-mcdonald_event.jpg
END:VEVENT
END:VCALENDAR