BEGIN:VCALENDAR
VERSION:2.0
PRODID:-//Taos Ski Valley - ECPv6.15.20//NONSGML v1.0//EN
CALSCALE:GREGORIAN
METHOD:PUBLISH
X-WR-CALNAME:Taos Ski Valley
X-ORIGINAL-URL:https://taosskivalley.com
X-WR-CALDESC:Events for Taos Ski Valley
REFRESH-INTERVAL;VALUE=DURATION:PT1H
X-Robots-Tag:noindex
X-PUBLISHED-TTL:PT1H
BEGIN:VTIMEZONE
TZID:UTC
BEGIN:STANDARD
TZOFFSETFROM:+0000
TZOFFSETTO:+0000
TZNAME:UTC
DTSTART:20240101T000000
END:STANDARD
END:VTIMEZONE
BEGIN:VTIMEZONE
TZID:America/Denver
BEGIN:DAYLIGHT
TZOFFSETFROM:-0700
TZOFFSETTO:-0600
TZNAME:MDT
DTSTART:20240310T090000
END:DAYLIGHT
BEGIN:STANDARD
TZOFFSETFROM:-0600
TZOFFSETTO:-0700
TZNAME:MST
DTSTART:20241103T080000
END:STANDARD
BEGIN:DAYLIGHT
TZOFFSETFROM:-0700
TZOFFSETTO:-0600
TZNAME:MDT
DTSTART:20250309T090000
END:DAYLIGHT
BEGIN:STANDARD
TZOFFSETFROM:-0600
TZOFFSETTO:-0700
TZNAME:MST
DTSTART:20251102T080000
END:STANDARD
BEGIN:DAYLIGHT
TZOFFSETFROM:-0700
TZOFFSETTO:-0600
TZNAME:MDT
DTSTART:20260308T090000
END:DAYLIGHT
BEGIN:STANDARD
TZOFFSETFROM:-0600
TZOFFSETTO:-0700
TZNAME:MST
DTSTART:20261101T080000
END:STANDARD
END:VTIMEZONE
BEGIN:VEVENT
DTSTART;TZID=UTC:20250705T170000
DTEND;TZID=UTC:20250705T180000
DTSTAMP:20260423T005019
CREATED:20250521T212708Z
LAST-MODIFIED:20250711T225324Z
UID:10003740-1751734800-1751738400@taosskivalley.com
SUMMARY:Taos School of Music: Young Artist Performances in Taos Ski Valley
DESCRIPTION:Be blown away by the power\, virtuosity\, and energy of the Taos School of Music Young Artists. These are the next generation of the world’s greatest musicians\, and you’ll be watching them on the world’s stage for years to come. These performances showcase the rising stars of the prestigious music program\, delivering masterful interpretations of beloved chamber music masterpieces. These gifted early-career artists\, hailing from the world’s leading consevatories\, bring passion and precision to every note. Join us for an inspiring evening of music that promises to captivate and celebrate the future of classical performance. \nWith attendance\, receive a coupon for 20% off food at 192 at The Blake in Taos Ski Valley. \nThis group of 19 exceptional violinists\, violists\, cellists\, and pianists is inspiring not only for their amazing artistry but also for their advocacy for music’s role in society. \nAll Taos Ski Valley performances are at the Rio Hondo Learning Center: \nSaturday\, June 21 • 5pm\nSaturday\, July 5 • 5pm\nSaturday\, July 19 • 5pm\nSaturday\, August 2 • 5pm \nFor more information and tickets.
URL:https://taosskivalley.com/event/taos-school-of-music-young-artist-tsv/2025-07-05/
LOCATION:Rio Hondo Learning Center\, 5 Firehouse Road\, Taos Ski Valley\, NM\, 87525
CATEGORIES:Featured Event
ATTACH;FMTTYPE=image/jpeg:https://taosskivalley.com/wp-content/uploads/2022/07/taos-school-of-music-young-artist-performances_event.jpg
END:VEVENT
BEGIN:VEVENT
DTSTART;TZID=America/Denver:20250705T190000
DTEND;TZID=America/Denver:20250705T220000
DTSTAMP:20260423T005019
CREATED:20250521T194101Z
LAST-MODIFIED:20250630T162835Z
UID:10003739-1751742000-1751752800@taosskivalley.com
SUMMARY:Charley Crockett
DESCRIPTION:Some people politely wait for their turn\, ask for permission\, and take a shot at their dreams when the opportunity allows. Charley Crockett isn’t one of those people. He’s never just waited around\, asked for permission\, or let opportunity find him. Instead\, the GRAMMY® Award-nominated Texas-born maverick defied the odds at every turn\, tapping into a rebellious strain of country\, releasing 14 albums independently\, and grinding from obscurity to selling out some of the world’s most renowned venues. As Pitchfork points out\, “in the decade it took Crockett to brush country stardom\, the bygone era of music he loves and embodies arrived in the modern age. He is a key player in deciding where it will go next.” He has continuously pushed forward too. Since 2015\, he has paved a singular path out of Texas. Beyond garnering hundreds of millions of streams\, he picked up his first GRAMMY® nod for 2024’s $10 Cowboy. In the last year alone\, he notably sold out Red Rocks Amphitheater in Morrison\, CO\, the Greek Theater in Los Angeles\, CA\, and two nights at the Ryman Auditorium in Nashville\, TN. Crockett and his music have also received praise from The New Yorker\, Rolling Stone\, and Variety. Speaking to his impact\, CBS Mornings chronicled his journey\, and he’s sat down for an interview on The Daily Show. Plus\, he’s graced the stage for performances on Austin City Limits\, Jimmy Kimmel Live! and CBS “Saturday Sessions” in addition to playing behind NPR Music’s “Tiny Desk.” \nWith multi-GRAMMY® Award-winning Shooter Jennings as co-producer\, the same unapologetic spirit\, diehard work ethic\, and no-nonsense honesty drive Crockett’s Island Records debut LP\, Lonesome Drifter. \nFor more information and tickets.
URL:https://taosskivalley.com/event/charley-crockett/
LOCATION:Red Willow Park\, Town of Taos\, 211 Paseo Del Pueblo Norte\, Taos\, NM\, 87571
CATEGORIES:Featured Event
ATTACH;FMTTYPE=image/jpeg:https://taosskivalley.com/wp-content/uploads/2025/05/charley-crockett_event.jpg
END:VEVENT
END:VCALENDAR