BEGIN:VCALENDAR
VERSION:2.0
PRODID:-//Taos Ski Valley - ECPv6.15.20//NONSGML v1.0//EN
CALSCALE:GREGORIAN
METHOD:PUBLISH
X-ORIGINAL-URL:https://taosskivalley.com
X-WR-CALDESC:Events for Taos Ski Valley
REFRESH-INTERVAL;VALUE=DURATION:PT1H
X-Robots-Tag:noindex
X-PUBLISHED-TTL:PT1H
BEGIN:VTIMEZONE
TZID:America/Denver
BEGIN:DAYLIGHT
TZOFFSETFROM:-0700
TZOFFSETTO:-0600
TZNAME:MDT
DTSTART:20240310T090000
END:DAYLIGHT
BEGIN:STANDARD
TZOFFSETFROM:-0600
TZOFFSETTO:-0700
TZNAME:MST
DTSTART:20241103T080000
END:STANDARD
BEGIN:DAYLIGHT
TZOFFSETFROM:-0700
TZOFFSETTO:-0600
TZNAME:MDT
DTSTART:20250309T090000
END:DAYLIGHT
BEGIN:STANDARD
TZOFFSETFROM:-0600
TZOFFSETTO:-0700
TZNAME:MST
DTSTART:20251102T080000
END:STANDARD
BEGIN:DAYLIGHT
TZOFFSETFROM:-0700
TZOFFSETTO:-0600
TZNAME:MDT
DTSTART:20260308T090000
END:DAYLIGHT
BEGIN:STANDARD
TZOFFSETFROM:-0600
TZOFFSETTO:-0700
TZNAME:MST
DTSTART:20261101T080000
END:STANDARD
END:VTIMEZONE
BEGIN:VEVENT
DTSTART;TZID=America/Denver:20250529T180000
DTEND;TZID=America/Denver:20250529T190000
DTSTAMP:20260422T151751
CREATED:20250501T231243Z
LAST-MODIFIED:20250519T184847Z
UID:10003703-1748541600-1748545200@taosskivalley.com
SUMMARY:Taos Opera Institute: On Broadway
DESCRIPTION:Join DALEEE KTAOS for Taos Opera Institute: On Broadway! Delight in an evening of songs and ensembles from the Broadway stage\, performed by TOI’s talented young artists. This event is free and open to all ages. Don’t miss this enchanting musical showcase. \n\nExperience Broadway Magic in Taos! \nThursday\, May 29\, from 6:00 PM to 7:00 PM
URL:https://taosskivalley.com/event/taos-opera-institute-on-broadway/
LOCATION:DALEEE KTAOS\, 9 NM Hwy. 150\, El Prado\, NM\, 87529\, United States
CATEGORIES:Featured Event
ATTACH;FMTTYPE=image/jpeg:https://taosskivalley.com/wp-content/uploads/2025/05/taos-opera-institute-broadway-daleee-052925_event.jpg
END:VEVENT
END:VCALENDAR