BEGIN:VCALENDAR
VERSION:2.0
PRODID:-//Taos Ski Valley - ECPv6.15.20//NONSGML v1.0//EN
CALSCALE:GREGORIAN
METHOD:PUBLISH
X-ORIGINAL-URL:https://taosskivalley.com
X-WR-CALDESC:Events for Taos Ski Valley
REFRESH-INTERVAL;VALUE=DURATION:PT1H
X-Robots-Tag:noindex
X-PUBLISHED-TTL:PT1H
BEGIN:VTIMEZONE
TZID:America/Denver
BEGIN:DAYLIGHT
TZOFFSETFROM:-0700
TZOFFSETTO:-0600
TZNAME:MDT
DTSTART:20240310T090000
END:DAYLIGHT
BEGIN:STANDARD
TZOFFSETFROM:-0600
TZOFFSETTO:-0700
TZNAME:MST
DTSTART:20241103T080000
END:STANDARD
BEGIN:DAYLIGHT
TZOFFSETFROM:-0700
TZOFFSETTO:-0600
TZNAME:MDT
DTSTART:20250309T090000
END:DAYLIGHT
BEGIN:STANDARD
TZOFFSETFROM:-0600
TZOFFSETTO:-0700
TZNAME:MST
DTSTART:20251102T080000
END:STANDARD
BEGIN:DAYLIGHT
TZOFFSETFROM:-0700
TZOFFSETTO:-0600
TZNAME:MDT
DTSTART:20260308T090000
END:DAYLIGHT
BEGIN:STANDARD
TZOFFSETFROM:-0600
TZOFFSETTO:-0700
TZNAME:MST
DTSTART:20261101T080000
END:STANDARD
END:VTIMEZONE
BEGIN:VEVENT
DTSTART;TZID=America/Denver:20250515T180000
DTEND;TZID=America/Denver:20250515T200000
DTSTAMP:20260422T040942
CREATED:20250501T211304Z
LAST-MODIFIED:20250507T161626Z
UID:10003697-1747332000-1747339200@taosskivalley.com
SUMMARY:Skaldik & Los Domingueros
DESCRIPTION:Join DALEEE for an electrifying evening featuring two powerhouse bands Skaldik & Los Domingueros! \nSkaldik — hailing from Santiago\, Chile — brings their unique “ska & ruptura” style\, combining punk energy with ska rhythms. Active since 2014\, Skaldik’s music is known for its complex rhythms\, captivating melodies\, and socially conscious lyrics that resonate with audiences worldwide. ​ \nLos Domingueros — New Mexico’s premier menudo-based band — seamlessly blend Latin dance rhythms like salsa\, bachata\, and cumbia with the high-energy vibes of ska\, punk\, reggae\, and even thrash. Their dynamic performances are a testament to their diverse musical roots and infectious stage presence. ​ \nTickets: $10 at the door​
URL:https://taosskivalley.com/event/skaldik-los-domingueros/
LOCATION:DALEEE KTAOS\, 9 NM Hwy. 150\, El Prado\, NM\, 87529\, United States
CATEGORIES:Featured Event
ATTACH;FMTTYPE=image/jpeg:https://taosskivalley.com/wp-content/uploads/2025/05/skaldik-and-los-dominguenos-daleee-051525_event.jpg
END:VEVENT
END:VCALENDAR