BEGIN:VCALENDAR
VERSION:2.0
PRODID:-//Taos Ski Valley - ECPv6.15.20//NONSGML v1.0//EN
CALSCALE:GREGORIAN
METHOD:PUBLISH
X-WR-CALNAME:Taos Ski Valley
X-ORIGINAL-URL:https://taosskivalley.com
X-WR-CALDESC:Events for Taos Ski Valley
REFRESH-INTERVAL;VALUE=DURATION:PT1H
X-Robots-Tag:noindex
X-PUBLISHED-TTL:PT1H
BEGIN:VTIMEZONE
TZID:UTC
BEGIN:STANDARD
TZOFFSETFROM:+0000
TZOFFSETTO:+0000
TZNAME:UTC
DTSTART:20230101T000000
END:STANDARD
END:VTIMEZONE
BEGIN:VTIMEZONE
TZID:America/Denver
BEGIN:DAYLIGHT
TZOFFSETFROM:-0700
TZOFFSETTO:-0600
TZNAME:MDT
DTSTART:20230312T090000
END:DAYLIGHT
BEGIN:STANDARD
TZOFFSETFROM:-0600
TZOFFSETTO:-0700
TZNAME:MST
DTSTART:20231105T080000
END:STANDARD
BEGIN:DAYLIGHT
TZOFFSETFROM:-0700
TZOFFSETTO:-0600
TZNAME:MDT
DTSTART:20240310T090000
END:DAYLIGHT
BEGIN:STANDARD
TZOFFSETFROM:-0600
TZOFFSETTO:-0700
TZNAME:MST
DTSTART:20241103T080000
END:STANDARD
BEGIN:DAYLIGHT
TZOFFSETFROM:-0700
TZOFFSETTO:-0600
TZNAME:MDT
DTSTART:20250309T090000
END:DAYLIGHT
BEGIN:STANDARD
TZOFFSETFROM:-0600
TZOFFSETTO:-0700
TZNAME:MST
DTSTART:20251102T080000
END:STANDARD
END:VTIMEZONE
BEGIN:VEVENT
DTSTART;TZID=UTC:20240607T160000
DTEND;TZID=UTC:20240607T180000
DTSTAMP:20260421T223825
CREATED:20240501T213732Z
LAST-MODIFIED:20250501T223612Z
UID:10001797-1717776000-1717783200@taosskivalley.com
SUMMARY:Taos Opera Institute: TOI Singers in Taos Ski Valley
DESCRIPTION:Taos Opera Institute presents the TOI Singers at the Edelweiss Lodge & Spa Courtyard. All TOI Young Artists present the operatic aria they worked on during the week with the TOI Faculty. These will be presented in English\, Italian\, French and German. The Blonde Bear Tavern at the Edelweiss Lodge & Spa will be open during the event. \nAdmission is free\, donations gratefully accepted. \n2024 SCHEDULE: 5/31\, 6/7\, 6/14\, and 6/21
URL:https://taosskivalley.com/event/taos-opera-institute-toi-singers-tsv/2024-06-07/
LOCATION:Edelweiss Lodge & Spa\, 106 Sutton Place\, Taos Ski Valley\, NM\, 87525
CATEGORIES:Featured Event
ATTACH;FMTTYPE=image/jpeg:https://taosskivalley.com/wp-content/uploads/2023/05/taos-opera-institute-cantos-edelweiss_event.jpg
END:VEVENT
BEGIN:VEVENT
DTSTART;TZID=America/Denver:20240607T190000
DTEND;TZID=America/Denver:20240607T230000
DTSTAMP:20260421T223825
CREATED:20240530T215945Z
LAST-MODIFIED:20240603T213002Z
UID:10001884-1717786800-1717801200@taosskivalley.com
SUMMARY:Roots and Wires Presents: Son Rompe Pera
DESCRIPTION:Son Rompe Pera\, born & raised in the deep outskirts of Mexico City\, the Gama brothers are keeping alive the legacy of marimba music. Cumbia from Mexico City! \nTickets:\n$18 in advance at HOLDMYTICKET.COM.\n$23 at the door.
URL:https://taosskivalley.com/event/son-rompe-pera/
LOCATION:DALEEE KTAOS\, 9 NM Hwy. 150\, El Prado\, NM\, 87529\, United States
CATEGORIES:Featured Event
ATTACH;FMTTYPE=image/jpeg:https://taosskivalley.com/wp-content/uploads/2024/05/son-rompe-pera-daleee_event.jpg
END:VEVENT
END:VCALENDAR