BEGIN:VCALENDAR
VERSION:2.0
PRODID:-//Taos Ski Valley - ECPv6.15.20//NONSGML v1.0//EN
CALSCALE:GREGORIAN
METHOD:PUBLISH
X-ORIGINAL-URL:https://taosskivalley.com
X-WR-CALDESC:Events for Taos Ski Valley
REFRESH-INTERVAL;VALUE=DURATION:PT1H
X-Robots-Tag:noindex
X-PUBLISHED-TTL:PT1H
BEGIN:VTIMEZONE
TZID:America/Denver
BEGIN:DAYLIGHT
TZOFFSETFROM:-0700
TZOFFSETTO:-0600
TZNAME:MDT
DTSTART:20230312T090000
END:DAYLIGHT
BEGIN:STANDARD
TZOFFSETFROM:-0600
TZOFFSETTO:-0700
TZNAME:MST
DTSTART:20231105T080000
END:STANDARD
BEGIN:DAYLIGHT
TZOFFSETFROM:-0700
TZOFFSETTO:-0600
TZNAME:MDT
DTSTART:20240310T090000
END:DAYLIGHT
BEGIN:STANDARD
TZOFFSETFROM:-0600
TZOFFSETTO:-0700
TZNAME:MST
DTSTART:20241103T080000
END:STANDARD
BEGIN:DAYLIGHT
TZOFFSETFROM:-0700
TZOFFSETTO:-0600
TZNAME:MDT
DTSTART:20250309T090000
END:DAYLIGHT
BEGIN:STANDARD
TZOFFSETFROM:-0600
TZOFFSETTO:-0700
TZNAME:MST
DTSTART:20251102T080000
END:STANDARD
END:VTIMEZONE
BEGIN:VEVENT
DTSTART;TZID=America/Denver:20240524T200000
DTEND;TZID=America/Denver:20240524T233000
DTSTAMP:20260421T194158
CREATED:20240516T201234Z
LAST-MODIFIED:20240520T152838Z
UID:10001869-1716580800-1716593400@taosskivalley.com
SUMMARY:In House We Trust with The Fungi Phunk
DESCRIPTION:Join us for another night of house music with Kaoss QT and The Fungi Phunk at DALEEE KTAOS Solar Center. \nTickets $5\nDoors 8pm
URL:https://taosskivalley.com/event/in-house-we-trust-with-the-fungi-phunk/
LOCATION:DALEEE KTAOS\, 9 NM Hwy. 150\, El Prado\, NM\, 87529\, United States
CATEGORIES:Featured Event
ATTACH;FMTTYPE=image/jpeg:https://taosskivalley.com/wp-content/uploads/2024/05/the-fungi-phunk-kaoss-qt-daleee_event.jpg
END:VEVENT
END:VCALENDAR