BEGIN:VCALENDAR
VERSION:2.0
PRODID:-//Taos Ski Valley - ECPv6.15.20//NONSGML v1.0//EN
CALSCALE:GREGORIAN
METHOD:PUBLISH
X-ORIGINAL-URL:https://taosskivalley.com
X-WR-CALDESC:Events for Taos Ski Valley
REFRESH-INTERVAL;VALUE=DURATION:PT1H
X-Robots-Tag:noindex
X-PUBLISHED-TTL:PT1H
BEGIN:VTIMEZONE
TZID:UTC
BEGIN:STANDARD
TZOFFSETFROM:+0000
TZOFFSETTO:+0000
TZNAME:UTC
DTSTART:20230101T000000
END:STANDARD
END:VTIMEZONE
BEGIN:VEVENT
DTSTART;TZID=UTC:20240512T160000
DTEND;TZID=UTC:20240512T173000
DTSTAMP:20260421T194210
CREATED:20240415T185535Z
LAST-MODIFIED:20240506T225223Z
UID:10000579-1715529600-1715535000@taosskivalley.com
SUMMARY:¡Radio Free Bassanda!
DESCRIPTION:Come out for an afternoon of music from the Mediterranean\, Near East & Balkans with !Radio Free Bassanda!. This group’s energetic and complex rhythms will challenge the ear and the feet. Their wide range of repertoire and instrumentation from Eastern and Western traditions provides the musicians with a broad timbral palette to weave their sound pictures. \n¡Radio Free Bassanda! was founded out of a shared interest in the various modal music from around the Mediterranean\, the Middle & Near East\, and the Balkans. Modal music emphasizes melody and rhythm over harmony\, and relies heavily on a great deal of improvisation and spontaneous invention. \nFeaturing:\nRoger Landes: bouzouki\, oud\, Chipper Thompson: (percussion) dumbeq\, darabukka\, zarb\, Ben Wright: double bass\, Jack Boaz: fiddle\, Jordan Langehennig: winds\, strings
URL:https://taosskivalley.com/event/radio-free-bassanda/
LOCATION:Harwood Museum of Art\, 238 Ledoux Street\, Taos\, NM\, 87571
CATEGORIES:Featured Event
ATTACH;FMTTYPE=image/jpeg:https://taosskivalley.com/wp-content/uploads/2023/05/radio-free-bassanda-concert_event.jpg
END:VEVENT
END:VCALENDAR