BEGIN:VCALENDAR
VERSION:2.0
PRODID:-//Taos Ski Valley - ECPv6.15.20//NONSGML v1.0//EN
CALSCALE:GREGORIAN
METHOD:PUBLISH
X-WR-CALNAME:Taos Ski Valley
X-ORIGINAL-URL:https://taosskivalley.com
X-WR-CALDESC:Events for Taos Ski Valley
REFRESH-INTERVAL;VALUE=DURATION:PT1H
X-Robots-Tag:noindex
X-PUBLISHED-TTL:PT1H
BEGIN:VTIMEZONE
TZID:America/Denver
BEGIN:DAYLIGHT
TZOFFSETFROM:-0700
TZOFFSETTO:-0600
TZNAME:MDT
DTSTART:20230312T090000
END:DAYLIGHT
BEGIN:STANDARD
TZOFFSETFROM:-0600
TZOFFSETTO:-0700
TZNAME:MST
DTSTART:20231105T080000
END:STANDARD
BEGIN:DAYLIGHT
TZOFFSETFROM:-0700
TZOFFSETTO:-0600
TZNAME:MDT
DTSTART:20240310T090000
END:DAYLIGHT
BEGIN:STANDARD
TZOFFSETFROM:-0600
TZOFFSETTO:-0700
TZNAME:MST
DTSTART:20241103T080000
END:STANDARD
BEGIN:DAYLIGHT
TZOFFSETFROM:-0700
TZOFFSETTO:-0600
TZNAME:MDT
DTSTART:20250309T090000
END:DAYLIGHT
BEGIN:STANDARD
TZOFFSETFROM:-0600
TZOFFSETTO:-0700
TZNAME:MST
DTSTART:20251102T080000
END:STANDARD
END:VTIMEZONE
BEGIN:VEVENT
DTSTART;TZID=America/Denver:20240511T193000
DTEND;TZID=America/Denver:20240511T213000
DTSTAMP:20260421T193929
CREATED:20240501T203414Z
LAST-MODIFIED:20240506T225154Z
UID:10001795-1715455800-1715463000@taosskivalley.com
SUMMARY:Doug Lawrence’s Nuevos Mexicanos
DESCRIPTION:Doug Lawrence’s Nuevos Mexicanos\, a thrilling mix of Latin Jazz and Salsa\, the sounds will heat up the most avid Salsa dancers\, and excite the ears of the most sophisticated jazz fans. NINE world-class players: Paul Gonzales-trumpet\, Steve Figueroa-keyboard\, Milo Jaramillo-bass\, three outrageous percussionists: David Flores\, Ricky Carrido and Nicolas Lebron\, and two sensational vocalists: Jackie Zamora (known as New Mexico’s Queen of Salsa) and Liza Jimenez- a newcomer sure to blow you away. Led by world-famous Grammy winning saxophonist Doug Lawrence- it’s gonna be FIRE! \n7:30 PM – 9:30 PM \n$30 / $25 / $20
URL:https://taosskivalley.com/event/doug-lawrence-nuevos-mexicanos/
LOCATION:DALEEE KTAOS\, 9 NM Hwy. 150\, El Prado\, NM\, 87529\, United States
CATEGORIES:Featured Event
ATTACH;FMTTYPE=image/jpeg:https://taosskivalley.com/wp-content/uploads/2024/05/doug-lawrence-nuevos-mexicanos-daleee_event.jpg
END:VEVENT
END:VCALENDAR