BEGIN:VCALENDAR
VERSION:2.0
PRODID:-//Taos Ski Valley - ECPv6.15.20//NONSGML v1.0//EN
CALSCALE:GREGORIAN
METHOD:PUBLISH
X-ORIGINAL-URL:https://taosskivalley.com
X-WR-CALDESC:Events for Taos Ski Valley
REFRESH-INTERVAL;VALUE=DURATION:PT1H
X-Robots-Tag:noindex
X-PUBLISHED-TTL:PT1H
BEGIN:VTIMEZONE
TZID:America/Denver
BEGIN:DAYLIGHT
TZOFFSETFROM:-0700
TZOFFSETTO:-0600
TZNAME:MDT
DTSTART:20230312T090000
END:DAYLIGHT
BEGIN:STANDARD
TZOFFSETFROM:-0600
TZOFFSETTO:-0700
TZNAME:MST
DTSTART:20231105T080000
END:STANDARD
BEGIN:DAYLIGHT
TZOFFSETFROM:-0700
TZOFFSETTO:-0600
TZNAME:MDT
DTSTART:20240310T090000
END:DAYLIGHT
BEGIN:STANDARD
TZOFFSETFROM:-0600
TZOFFSETTO:-0700
TZNAME:MST
DTSTART:20241103T080000
END:STANDARD
BEGIN:DAYLIGHT
TZOFFSETFROM:-0700
TZOFFSETTO:-0600
TZNAME:MDT
DTSTART:20250309T090000
END:DAYLIGHT
BEGIN:STANDARD
TZOFFSETFROM:-0600
TZOFFSETTO:-0700
TZNAME:MST
DTSTART:20251102T080000
END:STANDARD
END:VTIMEZONE
BEGIN:VEVENT
DTSTART;TZID=America/Denver:20240414T160000
DTEND;TZID=America/Denver:20240414T210000
DTSTAMP:20260421T194209
CREATED:20240215T195809Z
LAST-MODIFIED:20240406T004407Z
UID:10001514-1713110400-1713128400@taosskivalley.com
SUMMARY:Taos Mountain Bike Association: Film Festival
DESCRIPTION:Join the Taos Mountain Bike Association (TMBA) for the 2nd Annual Film Festival at the Taos Center for the Arts! There will be vendors\, a raffle (with at least one new bike)\, and fun with like minded people. Come early to socialize and talk trails with fellow riders and representatives from all the vendors. \nDoors open at 4pm & it’s FREE ADMISSION   • Event Poster \nFEATURED FILMS\nIn The Dirt / 5pm followed by Q&A with the folks featured in the film\nThe Engine Inside / 7pm \nIn The Dirt is a documentary film about a group of passionate Native American cyclists who attempt to bring the sport of mountain biking to the Navajo Nation\, where no bike shops exist. \nIn 2018\, retired pro cyclist Scott Nydam and his family moved to Gallup\, New Mexico to pursue a healthcare job for his wife. Soon after their arrival\, Scott began meeting passionate mountain bikers across the 28\,000-mile expanse of the Navajo Nation who loved the bike and wanted to bring the sport to their communities. The only problem is no bike shops existed. Through a grassroots native-led effort\, this group of dedicated cyclists and their families have overcome countless odds to build a cycling culture that today has become the fastest-growing recreational sport on the Navajo Nation. \nThe Engine Inside For the past century\, our society has grappled with the unintended consequences of a car-centric culture. Follow the lives of six individuals from diverse backgrounds who have devoted themselves to a simple\, age-old machine – the bicycle. Through their struggles and challenges\, witness how bicycles have the potential to transform lives and contribute to a better world.
URL:https://taosskivalley.com/event/tmba-film-festival/
LOCATION:Taos Center for the Arts\, 145 Paseo Del Pueblo Norte\, Taos\, NM\, 87571\, United States
CATEGORIES:Featured Event
ATTACH;FMTTYPE=image/jpeg:https://taosskivalley.com/wp-content/uploads/2024/02/tmba-film-festival-2024_event.jpg
END:VEVENT
BEGIN:VEVENT
DTSTART;TZID=America/Denver:20240414T193000
DTEND;TZID=America/Denver:20240414T230000
DTSTAMP:20260421T194209
CREATED:20240229T192536Z
LAST-MODIFIED:20240408T165912Z
UID:10001598-1713123000-1713135600@taosskivalley.com
SUMMARY:CocoRosie
DESCRIPTION:CocoRosie with DJ Miss Ginger. \nCelebrating 20 years of CocoRosie\, playing songs spanning their entire career\, including new songs from their forthcoming 8th record\, which will release in the Fall 2024. \nWith a committed global fanbase stretching across the United States\, Europe\, South America and beyond\, CocoRosie has consistently released cutting edge studio records and performed to sold out concert venues for two decades. Recording artists most recognized for their masterful poetry and timeless harmonies accompanied by lo-fi toy folly\, classical instrumentation and genre defying rhythms\, sister duo CocoRosie continue to elevate their sound and art with each recording project. \nSierra Casady is a classically trained Opera singer and stage actor and Bianca Casady is a published poet and accomplished visual artist. Together the sisters utilize theatrical practices of movement and character study\, high fashion and contemporary art to produce work which reflects the human experience. Through radically subversive and highly developed conceptual art\, CocoRosie utilizes irreverence and play to speak up for human rights and question unjust societal values. \nDJ Miss Ginger has been mixing on the turntables since 1998. Miss Ginger’s selections range from R&B to House to Hip Hop to Techno to Funk and all things in between. Miss Ginger is known for her eclectic approach to DJ’ing and her energetic connection with with her audience. Through her sets\, DJ Miss Ginger creates music selections and environments to inspire human connection and speak on social justice. \nTickets cost $35 in advance\, $40 day of show (plus service charges). They are also available by phone through Hold My Ticket at 505-886-1251.
URL:https://taosskivalley.com/event/cocorosie/
LOCATION:DALEEE KTAOS\, 9 NM Hwy. 150\, El Prado\, NM\, 87529\, United States
CATEGORIES:Featured Event
ATTACH;FMTTYPE=image/jpeg:https://taosskivalley.com/wp-content/uploads/2024/02/coco-rosie-daleee_event.jpg
END:VEVENT
END:VCALENDAR