BEGIN:VCALENDAR
VERSION:2.0
PRODID:-//Taos Ski Valley - ECPv6.15.20//NONSGML v1.0//EN
CALSCALE:GREGORIAN
METHOD:PUBLISH
X-ORIGINAL-URL:https://taosskivalley.com
X-WR-CALDESC:Events for Taos Ski Valley
REFRESH-INTERVAL;VALUE=DURATION:PT1H
X-Robots-Tag:noindex
X-PUBLISHED-TTL:PT1H
BEGIN:VTIMEZONE
TZID:America/Denver
BEGIN:DAYLIGHT
TZOFFSETFROM:-0700
TZOFFSETTO:-0600
TZNAME:MDT
DTSTART:20230312T090000
END:DAYLIGHT
BEGIN:STANDARD
TZOFFSETFROM:-0600
TZOFFSETTO:-0700
TZNAME:MST
DTSTART:20231105T080000
END:STANDARD
BEGIN:DAYLIGHT
TZOFFSETFROM:-0700
TZOFFSETTO:-0600
TZNAME:MDT
DTSTART:20240310T090000
END:DAYLIGHT
BEGIN:STANDARD
TZOFFSETFROM:-0600
TZOFFSETTO:-0700
TZNAME:MST
DTSTART:20241103T080000
END:STANDARD
BEGIN:DAYLIGHT
TZOFFSETFROM:-0700
TZOFFSETTO:-0600
TZNAME:MDT
DTSTART:20250309T090000
END:DAYLIGHT
BEGIN:STANDARD
TZOFFSETFROM:-0600
TZOFFSETTO:-0700
TZNAME:MST
DTSTART:20251102T080000
END:STANDARD
END:VTIMEZONE
BEGIN:VEVENT
DTSTART;TZID=America/Denver:20240406T160000
DTEND;TZID=America/Denver:20240406T183000
DTSTAMP:20260421T181010
CREATED:20240304T215453Z
LAST-MODIFIED:20240404T225405Z
UID:10001609-1712419200-1712428200@taosskivalley.com
SUMMARY:Gabrielle Aragon and Colin Diles
DESCRIPTION:Gabrielle Aragon is a singer/songwriter + educator and caretaker who has hit the ground running in her musical journey. In her first year of creating music she has crafted two albums and is starting to perform live. She is accompanied by producer Diles who has been working locally and internationally for the past 20 years based out of Albuquerque. \nListen: YouTube
URL:https://taosskivalley.com/event/gabrielle-aragon-and-colin-diles/
LOCATION:Martini Tree Bar\, Main Resort Plaza\, Taos Ski Valley\, NM\, 87525
CATEGORIES:Featured Event
ATTACH;FMTTYPE=image/jpeg:https://taosskivalley.com/wp-content/uploads/2024/03/gabrielle-aragon_event.jpg
END:VEVENT
END:VCALENDAR