BEGIN:VCALENDAR
VERSION:2.0
PRODID:-//Taos Ski Valley - ECPv6.15.20//NONSGML v1.0//EN
CALSCALE:GREGORIAN
METHOD:PUBLISH
X-WR-CALNAME:Taos Ski Valley
X-ORIGINAL-URL:https://taosskivalley.com
X-WR-CALDESC:Events for Taos Ski Valley
REFRESH-INTERVAL;VALUE=DURATION:PT1H
X-Robots-Tag:noindex
X-PUBLISHED-TTL:PT1H
BEGIN:VTIMEZONE
TZID:UTC
BEGIN:STANDARD
TZOFFSETFROM:+0000
TZOFFSETTO:+0000
TZNAME:UTC
DTSTART:20230101T000000
END:STANDARD
END:VTIMEZONE
BEGIN:VEVENT
DTSTART;VALUE=DATE:20240328
DTEND;VALUE=DATE:20240329
DTSTAMP:20260421T161624
CREATED:20240301T171943Z
LAST-MODIFIED:20240325T154141Z
UID:10000414-1711584000-1711670399@taosskivalley.com
SUMMARY:Junior Ski Tour Challenge
DESCRIPTION:Give your kids the opportunity to race on the 2024 World Pro Ski Tour World Championship racecourse! Plus\, all racers will have the opportunity to join the World Pro athletes on course inspection. \nThe race will be a 2-lap developmental training race with male and female U12\, U14\, U16\, and U18 divisions. \nMore info and to register. \n 
URL:https://taosskivalley.com/event/junior-ski-tour-challenge/
LOCATION:Taos Ski Valley\, Taos Ski Valley\, NM\, 87525
CATEGORIES:Featured Event
ATTACH;FMTTYPE=image/jpeg:https://taosskivalley.com/wp-content/uploads/2023/03/junior-ski-tour-challenge-2024_event.jpg
END:VEVENT
BEGIN:VEVENT
DTSTART;VALUE=DATE:20240328
DTEND;VALUE=DATE:20240331
DTSTAMP:20260421T161624
CREATED:20240201T173342Z
LAST-MODIFIED:20240322T162709Z
UID:10000408-1711584000-1711843199@taosskivalley.com
SUMMARY:World Pro Ski Tour
DESCRIPTION:The World Pro Ski Tour World Championships are coming back to TAOS and taking over Kachina Basin from March 28-30\, 2024. Three days of heart-pounding\, head-to-head downhill ski racing action! The best athletes from around the world face off to win one of the largest prize purses. \nThe World Pro Ski Tour is the country’s foremost professional alpine race tour where athletes compete side-by-side in a single-elimination format. This Tour features Olympians\, World Cup athletes\, and professional skiers from around the world and culminates in the World Championship tournament on TAOS’s world-renowned terrain. \nEnjoy a full schedule of fun and free activities including meet & greet opportunities with Olympians and World Cup ski racers\, live music\, trivia by Geeks Who Drink\, yoga\, and so much more! \nFor more information and schedule. \n 
URL:https://taosskivalley.com/event/world-pro-ski-tour/
LOCATION:Taos Ski Valley\, Taos Ski Valley\, NM\, 87525
CATEGORIES:Featured Event
ATTACH;FMTTYPE=image/jpeg:https://taosskivalley.com/wp-content/uploads/2023/01/world-pro-ski-tour-taos-2024.jpg
END:VEVENT
END:VCALENDAR