BEGIN:VCALENDAR
VERSION:2.0
PRODID:-//Taos Ski Valley - ECPv6.15.20//NONSGML v1.0//EN
CALSCALE:GREGORIAN
METHOD:PUBLISH
X-ORIGINAL-URL:https://taosskivalley.com
X-WR-CALDESC:Events for Taos Ski Valley
REFRESH-INTERVAL;VALUE=DURATION:PT1H
X-Robots-Tag:noindex
X-PUBLISHED-TTL:PT1H
BEGIN:VTIMEZONE
TZID:America/Denver
BEGIN:DAYLIGHT
TZOFFSETFROM:-0700
TZOFFSETTO:-0600
TZNAME:MDT
DTSTART:20220313T090000
END:DAYLIGHT
BEGIN:STANDARD
TZOFFSETFROM:-0600
TZOFFSETTO:-0700
TZNAME:MST
DTSTART:20221106T080000
END:STANDARD
BEGIN:DAYLIGHT
TZOFFSETFROM:-0700
TZOFFSETTO:-0600
TZNAME:MDT
DTSTART:20230312T090000
END:DAYLIGHT
BEGIN:STANDARD
TZOFFSETFROM:-0600
TZOFFSETTO:-0700
TZNAME:MST
DTSTART:20231105T080000
END:STANDARD
BEGIN:DAYLIGHT
TZOFFSETFROM:-0700
TZOFFSETTO:-0600
TZNAME:MDT
DTSTART:20240310T090000
END:DAYLIGHT
BEGIN:STANDARD
TZOFFSETFROM:-0600
TZOFFSETTO:-0700
TZNAME:MST
DTSTART:20241103T080000
END:STANDARD
END:VTIMEZONE
BEGIN:VEVENT
DTSTART;TZID=America/Denver:20231104T160000
DTEND;TZID=America/Denver:20231104T210000
DTSTAMP:20260421T082733
CREATED:20231103T203111Z
LAST-MODIFIED:20231103T203112Z
UID:10000791-1699113600-1699131600@taosskivalley.com
SUMMARY:Warren Miller's ALL TIME
DESCRIPTION:Warren Miller’s ALL TIME brings 74 years of filmmaking reimagined to the TCA’s BigScreen. And this season\, it’s all about good turns and good snow on good hills with good people. \nThis 2023 Warren Miller film dives deep into elements that Warren himself first identified as the stuff of which snowy dreams are made. From the birth of ski towns like Sun Valley and Aspen to icons and innovators like the original hotdoggers\, the film brings the best of seven decades along with humor and inspiration from today—featuring Maine’s finest athlete\, Donny Pelletier\, and the next generation of skiers and riders at Woodward Park City. \nShow times\, tickets\, and teaser. \nFeatured Athletes:  Amie Engerbretson\, Brian Rice\, Cam Fitzpatrick\, Connery Lundin\, Dan Egan\, Daron Rahlves\, Jayna Davis\, Jim Ryan\, John Egan\, JT Holmes\, Kaylin Richardson\, Lexi Dupont\, Madison Rose Ostergren\, Marcus Caston\, Mckenna Peterson\, Michelle Parker\, Rob Kingwill\, Scot Schmidt\, Simon Hillis\, Tyler Ceccanti\, Vasu Sojitra\, Wendy Fisher
URL:https://taosskivalley.com/event/warren-millers-all-time-2/
LOCATION:Taos Center for the Arts\, 145 Paseo Del Pueblo Norte\, Taos\, NM\, 87571\, United States
CATEGORIES:Featured Event
ATTACH;FMTTYPE=image/png:https://taosskivalley.com/wp-content/uploads/2023/10/warren-miller-alltime-taos-tca.png
END:VEVENT
END:VCALENDAR