BEGIN:VCALENDAR
VERSION:2.0
PRODID:-//Taos Ski Valley - ECPv6.15.20//NONSGML v1.0//EN
CALSCALE:GREGORIAN
METHOD:PUBLISH
X-WR-CALNAME:Taos Ski Valley
X-ORIGINAL-URL:https://taosskivalley.com
X-WR-CALDESC:Events for Taos Ski Valley
REFRESH-INTERVAL;VALUE=DURATION:PT1H
X-Robots-Tag:noindex
X-PUBLISHED-TTL:PT1H
BEGIN:VTIMEZONE
TZID:America/Denver
BEGIN:DAYLIGHT
TZOFFSETFROM:-0700
TZOFFSETTO:-0600
TZNAME:MDT
DTSTART:20220313T090000
END:DAYLIGHT
BEGIN:STANDARD
TZOFFSETFROM:-0600
TZOFFSETTO:-0700
TZNAME:MST
DTSTART:20221106T080000
END:STANDARD
BEGIN:DAYLIGHT
TZOFFSETFROM:-0700
TZOFFSETTO:-0600
TZNAME:MDT
DTSTART:20230312T090000
END:DAYLIGHT
BEGIN:STANDARD
TZOFFSETFROM:-0600
TZOFFSETTO:-0700
TZNAME:MST
DTSTART:20231105T080000
END:STANDARD
BEGIN:DAYLIGHT
TZOFFSETFROM:-0700
TZOFFSETTO:-0600
TZNAME:MDT
DTSTART:20240310T090000
END:DAYLIGHT
BEGIN:STANDARD
TZOFFSETFROM:-0600
TZOFFSETTO:-0700
TZNAME:MST
DTSTART:20241103T080000
END:STANDARD
END:VTIMEZONE
BEGIN:VEVENT
DTSTART;TZID=America/Denver:20230924T160000
DTEND;TZID=America/Denver:20230924T180000
DTSTAMP:20260421T064613
CREATED:20230914T225523Z
LAST-MODIFIED:20230921T142153Z
UID:10000772-1695571200-1695578400@taosskivalley.com
SUMMARY:Great Chefs of Taos Annual Paella Cookoff
DESCRIPTION:Taos Annual Paella Cookoff. A festive\, community event rich in great food\, drink\, entertainment\, and people. Taste the creative and traditional Spanish dish of Paella served by the many chefs of Taos and the Taos High Culinary Arts program. \nTickets include samples of at least 8 different paellas\, from both local chefs and the Taos High School Culinary Arts students. 100% of net proceeds support the Taos High School Culinary Arts Program. \nOur mission is to foster\, encourage\, develop and support culinary arts education in Taos County. \nLOCATION: medley. (on the ski valley road) \nTickets are $50 at the door!
URL:https://taosskivalley.com/event/great-chefs-of-taos-annual-paella-cookoff/
LOCATION:medley.\, 100 State Road 150\, El Prado\, NM\, 87529\, United States
CATEGORIES:Featured Event
ATTACH;FMTTYPE=image/jpeg:https://taosskivalley.com/wp-content/uploads/2023/09/great-chefs-of-taos-logo_event.jpg
END:VEVENT
END:VCALENDAR