BEGIN:VCALENDAR
VERSION:2.0
PRODID:-//Taos Ski Valley - ECPv6.15.20//NONSGML v1.0//EN
CALSCALE:GREGORIAN
METHOD:PUBLISH
X-ORIGINAL-URL:https://taosskivalley.com
X-WR-CALDESC:Events for Taos Ski Valley
REFRESH-INTERVAL;VALUE=DURATION:PT1H
X-Robots-Tag:noindex
X-PUBLISHED-TTL:PT1H
BEGIN:VTIMEZONE
TZID:UTC
BEGIN:STANDARD
TZOFFSETFROM:+0000
TZOFFSETTO:+0000
TZNAME:UTC
DTSTART:20240101T000000
END:STANDARD
END:VTIMEZONE
BEGIN:VTIMEZONE
TZID:America/Denver
BEGIN:DAYLIGHT
TZOFFSETFROM:-0700
TZOFFSETTO:-0600
TZNAME:MDT
DTSTART:20240310T090000
END:DAYLIGHT
BEGIN:STANDARD
TZOFFSETFROM:-0600
TZOFFSETTO:-0700
TZNAME:MST
DTSTART:20241103T080000
END:STANDARD
BEGIN:DAYLIGHT
TZOFFSETFROM:-0700
TZOFFSETTO:-0600
TZNAME:MDT
DTSTART:20250309T090000
END:DAYLIGHT
BEGIN:STANDARD
TZOFFSETFROM:-0600
TZOFFSETTO:-0700
TZNAME:MST
DTSTART:20251102T080000
END:STANDARD
BEGIN:DAYLIGHT
TZOFFSETFROM:-0700
TZOFFSETTO:-0600
TZNAME:MDT
DTSTART:20260308T090000
END:DAYLIGHT
BEGIN:STANDARD
TZOFFSETFROM:-0600
TZOFFSETTO:-0700
TZNAME:MST
DTSTART:20261101T080000
END:STANDARD
END:VTIMEZONE
BEGIN:VEVENT
DTSTART;TZID=UTC:20250802T170000
DTEND;TZID=UTC:20250802T180000
DTSTAMP:20260423T023433
CREATED:20250521T212708Z
LAST-MODIFIED:20250711T225324Z
UID:10003742-1754154000-1754157600@taosskivalley.com
SUMMARY:Taos School of Music: Young Artist Performances in Taos Ski Valley
DESCRIPTION:Be blown away by the power\, virtuosity\, and energy of the Taos School of Music Young Artists. These are the next generation of the world’s greatest musicians\, and you’ll be watching them on the world’s stage for years to come. These performances showcase the rising stars of the prestigious music program\, delivering masterful interpretations of beloved chamber music masterpieces. These gifted early-career artists\, hailing from the world’s leading consevatories\, bring passion and precision to every note. Join us for an inspiring evening of music that promises to captivate and celebrate the future of classical performance. \nWith attendance\, receive a coupon for 20% off food at 192 at The Blake in Taos Ski Valley. \nThis group of 19 exceptional violinists\, violists\, cellists\, and pianists is inspiring not only for their amazing artistry but also for their advocacy for music’s role in society. \nAll Taos Ski Valley performances are at the Rio Hondo Learning Center: \nSaturday\, June 21 • 5pm\nSaturday\, July 5 • 5pm\nSaturday\, July 19 • 5pm\nSaturday\, August 2 • 5pm \nFor more information and tickets.
URL:https://taosskivalley.com/event/taos-school-of-music-young-artist-tsv/2025-08-02/
LOCATION:Rio Hondo Learning Center\, 5 Firehouse Road\, Taos Ski Valley\, NM\, 87525
CATEGORIES:Featured Event
ATTACH;FMTTYPE=image/jpeg:https://taosskivalley.com/wp-content/uploads/2022/07/taos-school-of-music-young-artist-performances_event.jpg
END:VEVENT
BEGIN:VEVENT
DTSTART;TZID=America/Denver:20250808T170000
DTEND;TZID=America/Denver:20250808T200000
DTSTAMP:20260423T023433
CREATED:20250806T232631Z
LAST-MODIFIED:20250807T000831Z
UID:10004508-1754672400-1754683200@taosskivalley.com
SUMMARY:Josh Tafoya: WOVEN Opening Reception
DESCRIPTION:The Paseo Project and The Gallery at Hotel Willa is honored to present Josh Tafoya: WOVEN\, a debut solo exhibition from Taos-based fiber artist and fashion designer Josh Tafoya. On view from August 8 through October 31\, 2025\, the show highlights the full breadth of Tafoya’s creative work—from handwoven textile art to high-concept couture showcased at Paris Fashion Week. \nThe public is invited to an opening reception on Friday\, August 8\, from 5–8pm\, featuring DJ Oliver and a runway show and special performance by UNBOUND at 7pm that will animate and celebrate the intersection of fashion\, fiber\, and movement central to Tafoya’s practice. UNBOUND is a collaborative performance and community project by Sarah Hogland-Gurulé\, Lupita Salazar\, and Gabriel Carrion-Gonzales\, that uplifts the artists’ Genízaro ancestors\, lineage and culture. \nOrganized by The Paseo Project\, WOVEN is the latest installment in the year-round exhibition program at The Gallery at Hotel Willa\, which showcases contemporary work by local and regional artists. The curators would like to thank the Museum of International Folk Art for their assistance. \n 
URL:https://taosskivalley.com/event/josh-tafoya-woven-opening-reception/
LOCATION:Hotel Willa\, 233 Paseo Del Pueblo Sur\, Taos\, NM\, 87571
CATEGORIES:Featured Event
ATTACH;FMTTYPE=image/jpeg:https://taosskivalley.com/wp-content/uploads/2025/08/josh-tafoya-woven-gallery-willa_event.jpg
END:VEVENT
BEGIN:VEVENT
DTSTART;TZID=America/Denver:20250808T193000
DTEND;TZID=America/Denver:20250808T213000
DTSTAMP:20260423T023433
CREATED:20250806T164220Z
LAST-MODIFIED:20250807T000900Z
UID:10004486-1754681400-1754688600@taosskivalley.com
SUMMARY:One More Silver Dollar (Allman Brothers Tribute Band)
DESCRIPTION:ONE MORE SILVER DOLLAR is rollin’ into DALEEE KTAOS on Friday\, August 8 at 7:30 PM — bringing the timeless sound of the Allman Brothers Band to the high desert! \nThis powerhouse Southern Rock & Blues band from Albuquerque features:\nAndrew Holcomb (vocals\, guitar)\nPhil Giuliano (guitar)\nMichael Weise (bass)\nSteve Hull (drums)\nDon Stevenson (vocals\, keys)\nColleen Elvidge (vocals)\nKevin Powell (percussion) \nGet ready for a night of raw soul\, Southern swagger\, and legendary jams. \nTickets: $12 presale at daleeektaos.com | $15 at the door \nTickets: https://tickets.holdmyticket.com/tickets/450735
URL:https://taosskivalley.com/event/one-more-silver-dollar/
LOCATION:DALEEE KTAOS\, 9 NM Hwy. 150\, El Prado\, NM\, 87529\, United States
CATEGORIES:Featured Event
ATTACH;FMTTYPE=image/jpeg:https://taosskivalley.com/wp-content/uploads/2025/08/one-more-silver-dollar-daleee-080825_event.jpg
END:VEVENT
BEGIN:VEVENT
DTSTART;TZID=America/Denver:20250809T180000
DTEND;TZID=America/Denver:20250809T220000
DTSTAMP:20260423T023433
CREATED:20250806T165338Z
LAST-MODIFIED:20250807T001006Z
UID:10004487-1754762400-1754776800@taosskivalley.com
SUMMARY:Roots and Wires Presents: Jesse Cotton Stone
DESCRIPTION:Roots and Wires Presents Jesse Cotton Stone live from Mississippi for a Juke Joint Party at Saltos in Arroyo Seco. Jesse Cotton Stone and his three piece band. North Mississippi “Hell” Country Blues. \nBlues\, brews\, and enchiladas! \n6pm doors\, music starts at 7. Just $10 at the door only.
URL:https://taosskivalley.com/event/jesse-cotton-stone/
LOCATION:Saltos\, 470 NM-150\, Arroyo Seco\, NM\, 87514
CATEGORIES:Featured Event
ATTACH;FMTTYPE=image/jpeg:https://taosskivalley.com/wp-content/uploads/2025/08/jesse-cotton-stone-saltos_event.jpg
END:VEVENT
BEGIN:VEVENT
DTSTART;TZID=America/Denver:20250809T190000
DTEND;TZID=America/Denver:20250809T220000
DTSTAMP:20260423T023433
CREATED:20250806T174942Z
LAST-MODIFIED:20250807T001036Z
UID:10004488-1754766000-1754776800@taosskivalley.com
SUMMARY:The Goodies
DESCRIPTION:Catch the San Diego-based reggae fusion band The Goodies as they bring their soulful blend of reggae\, rock\, R&B\, and pop to the Taos stage! Founded by dynamic duo Justin “Goodie” Goodman and Zan\, The Goodies deliver high-energy vibes\, dual vocals\, and infectious rhythms rooted in Jamaican inspiration and West Coast flavor. \nCome dance\, sway\, and vibe with one of the hottest rising acts in the reggae scene — only at DALEEE! \nThe Goodies Live at DALEEE KTAOS! \nSaturday\, August 9th • 7PM • $10 at the door
URL:https://taosskivalley.com/event/the-goodies/
LOCATION:DALEEE KTAOS\, 9 NM Hwy. 150\, El Prado\, NM\, 87529\, United States
CATEGORIES:Featured Event
ATTACH;FMTTYPE=image/jpeg:https://taosskivalley.com/wp-content/uploads/2025/08/the-goodies-daleee-080925_event.jpg
END:VEVENT
BEGIN:VEVENT
DTSTART;TZID=America/Denver:20250810T190000
DTEND;TZID=America/Denver:20250810T220000
DTSTAMP:20260423T023433
CREATED:20250806T180316Z
LAST-MODIFIED:20250807T001106Z
UID:10004489-1754852400-1754863200@taosskivalley.com
SUMMARY:Enchanted Evenings FREE: Chuck Prophet and His Cumbia Shoes
DESCRIPTION:Chuck Prophet and His Cumbia Shoes at Taos Mesa Brewing Mothership! Captured live in the studio\, Wake The Dead resumes Prophets streak of more than a dozen critically acclaimed solo albums stretching all the way back to 1990\, when the California native first shifted focus from pioneering neo psych band Green on Red to working under his own name. \nEnchanted Evenings: Free Summer Sound \nAt Taos Mesa Brewing\, we believe in the power of music to unite communities and celebrate cultural diversity. With ‘Enchanted Evenings: Free Summer Sounds\,’ our mission is to provide an inclusive and accessible platform for independent artists to showcase their talents\, fostering a vibrant atmosphere of creativity and connection. Partnering with Lensic 360\, we aim to enrich the cultural landscape of Taos and beyond\, creating memorable experiences that inspire\, entertain\, and bring people together in the spirit of joy and harmony. Join us as we embark on a journey of music discovery\, celebrating the magic of summer nights under the enchanting skies of Taos Mesa. Check out the website for exact dates and new show announcements… \nhttps://www.taosmesabrewing.com/enchantedevenings
URL:https://taosskivalley.com/event/enchanted-evenings-chuck-prophet-and-his-cumbia-shoes/
LOCATION:Taos Mothership\, 20 ABC Mesa Rd.\, El Prado\, NM\, 87529
CATEGORIES:Featured Event
ATTACH;FMTTYPE=image/jpeg:https://taosskivalley.com/wp-content/uploads/2025/08/chuck-prophet-and-his-cumbia-shoes-tmb_event.jpg
END:VEVENT
BEGIN:VEVENT
DTSTART;TZID=America/Denver:20250816T190000
DTEND;TZID=America/Denver:20250816T220000
DTSTAMP:20260423T023433
CREATED:20250806T184815Z
LAST-MODIFIED:20250807T001356Z
UID:10004493-1755370800-1755381600@taosskivalley.com
SUMMARY:Felix y Los Gatos and Baracutanga
DESCRIPTION:Felix y Los Gatos and Baracutanga is a seven-piece band\, representing four different countries (Bolivia\, Ecuador\, Peru\, USA)\, that blends South American ancestral traditions with a modern sensibility\, whose exciting and distinct Latin flavor keeps crowds dancing and always wanting more. Baracutanga creates songs that cross linguistic and cultural barriers\, building bridges between the south and the north\, overcoming the barriers of discrimination and promoting intercultural experiences that empower Latinos and all people with a positive message of self-affirmation.
URL:https://taosskivalley.com/event/felix-y-los-gatos-and-baracutanga/
LOCATION:Taos Mothership\, 20 ABC Mesa Rd.\, El Prado\, NM\, 87529
CATEGORIES:Featured Event
ATTACH;FMTTYPE=image/jpeg:https://taosskivalley.com/wp-content/uploads/2025/08/felix-y-los-gatos-baracutanga-tmb_event.jpg
END:VEVENT
BEGIN:VEVENT
DTSTART;TZID=America/Denver:20250822T190000
DTEND;TZID=America/Denver:20250822T220000
DTSTAMP:20260423T023433
CREATED:20250811T194122Z
LAST-MODIFIED:20250818T181908Z
UID:10004512-1755889200-1755900000@taosskivalley.com
SUMMARY:Sour Bridges
DESCRIPTION:Get ready for a night of high-energy\, back-porch rock when Sour Bridges brings their signature “browngrass” sound to DALEEE KTAOS! Hailing from Austin\, TX\, this string band gone wild blends bluegrass roots with a rock ‘n’ roll edge\, complete with twangin’ banjo\, fiery fiddle\, and savory three-part harmonies. Founded by brothers Bill and Matt Pucci\, Sour Bridges delivers foot-stomping rhythms and rowdy good vibes that’ll have you dancing and hollering all night long. Don’t miss this electrifying live show that’s equal parts grit\, harmony\, and heart! \nFriday\, August 22\, 2025 at DALEEE KTAOS \nDoors: 6PM | Show: 7PM \n$15 Advance | $20 at the Door \nTickets: https://tickets.holdmyticket.com/tickets/449917
URL:https://taosskivalley.com/event/sour-bridges/
LOCATION:DALEEE KTAOS\, 9 NM Hwy. 150\, El Prado\, NM\, 87529\, United States
CATEGORIES:Featured Event
ATTACH;FMTTYPE=image/jpeg:https://taosskivalley.com/wp-content/uploads/2025/08/sour-bridges-daleee-082225_event.jpg
END:VEVENT
BEGIN:VEVENT
DTSTART;TZID=America/Denver:20250824T180000
DTEND;TZID=America/Denver:20250824T230000
DTSTAMP:20260423T023433
CREATED:20250716T161731Z
LAST-MODIFIED:20250818T182022Z
UID:10004391-1756058400-1756076400@taosskivalley.com
SUMMARY:SOJA with Kabaka Pyramid & Innastate
DESCRIPTION:For more than two decades\, SOJA have elated audiences across the globe with their fresh yet timeless take on roots reggae\, a sound born from their shared passion for making music that transports and inspires. On Beauty in the Silence—their first new album in four years—The Grammy Award-Winning band deepens that communal spirit by collaborating with artists from all corners of the reggae world\, including the likes of UB40\, Slightly Stoopid\, Stick Figure\, and Rebelution. Fueled by the sheer force of their connection and chemistry\, Beauty in the Silence ultimately makes for a much-needed antidote to fractured times\, infusing so much warmth and wisdom and unstoppable joy into each and every track. Elsewhere on Beauty in the Silence\, SOJA join forces with everyone from up-and-comers like Filipino American reggae singer Eli Mac (“A true original\, and one of the most creative people I know\,” according to Jacob) to longtime friends and tourmates like the Hawaiian band Common Kings (“They’re a huge inspiration when you’re on the road—every single night\, they hit the stage like a fireball”). And while each artist brings their own distinct sensibilities to the mix\, all of the guest musicians are deeply aligned with SOJA’s mission of uplifting the masses. “My hero’s always been Bob Marley\, and that’s mainly because he had this way of letting people find their purpose in the music\,” says Jacob. “It didn’t matter if you were white or black or a girl or a boy or rich or poor\, you felt like he was talking directly to you. So that’s what we were trying to do with this record: make it as real as possible and tell the whole story of our experience\, not just the shiny parts. That’s how you create something that really connects\, and that hopefully leaves this place at least a little better after you’re gone.” \nKabaka Pyramid\, a Grammy-winning Rastafarian lyricist\, revolutionizes Jamaican music with conscious messages rooted in reggae\, hip hop\, and dancehall. \nInnastate\, a Native American reggae band from New Mexico\, has garnered acclaim for their vibrant performances and award-winning music that celebrates Indigenous culture. \nSunday\, August 24\, 2025 6:00 pm – 11:00 pm\nTime: 6:00pm     Doors: 5:00pm     Ages: All Ages / Bar with ID     Price: $40\n\nMore information and tickets.
URL:https://taosskivalley.com/event/soja-with-kabaka-pyramid-innastate/
LOCATION:Taos Mothership\, 20 ABC Mesa Rd.\, El Prado\, NM\, 87529
CATEGORIES:Featured Event
ATTACH;FMTTYPE=image/jpeg:https://taosskivalley.com/wp-content/uploads/2025/07/soja-tmb_event.jpg
END:VEVENT
BEGIN:VEVENT
DTSTART;TZID=America/Denver:20250827T190000
DTEND;TZID=America/Denver:20250827T210000
DTSTAMP:20260423T023433
CREATED:20250819T200247Z
LAST-MODIFIED:20250825T170242Z
UID:10004534-1756321200-1756328400@taosskivalley.com
SUMMARY:Max Gomez – Memory Mountain Album Release Concert
DESCRIPTION:Hometown favorite Max Gomez returns to DALEEE on Wed\, Aug 27 to celebrate his brand new Memory Mountain Album Release Concert. \nA milestone both musically and personally\, this record was captured live-in-the-room with producer Mark Howard\, delivering the raw\, honest tone only that process can create. It also marks the launch of Max’s own independent label\, Marveltone Records. \nAug 27\, 2025 | Doors 7 PM | Show 8 PM | All Ages \nVIP Reserved $40 | GA $30 \nTickets available at the door after 7 PM day of show. \nhttps://tickets.holdmyticket.com/tickets/449204?tc=hmt
URL:https://taosskivalley.com/event/max-gomez-memory-mountain-album-release-concert/
LOCATION:DALEEE KTAOS\, 9 NM Hwy. 150\, El Prado\, NM\, 87529\, United States
CATEGORIES:Featured Event
ATTACH;FMTTYPE=image/jpeg:https://taosskivalley.com/wp-content/uploads/2025/08/max-gomez-daleee-082725_event.jpg
END:VEVENT
BEGIN:VEVENT
DTSTART;TZID=America/Denver:20250828T190000
DTEND;TZID=America/Denver:20250828T220000
DTSTAMP:20260423T023433
CREATED:20250819T201725Z
LAST-MODIFIED:20250826T225552Z
UID:10004535-1756407600-1756418400@taosskivalley.com
SUMMARY:Matthew Marcus McDaniel
DESCRIPTION:Matthew Marcus McDaniel is bringing his soul-shaking\, blues-soaked one-man band show to DALEEE KTAOS on Thursday\, August 28th at 7PM! \nA former frontman of Thieves of Sunrise and an international touring artist\, Matthew’s live performance is pure rock & roll revival — fusing blues\, soul\, Americana\, and raw singer-songwriter energy into one unforgettable experience. Expect suitcase drums\, electrifying guitar\, and harmonica that’ll hit you right in the heart. \nTickets just $5 | All ages welcome \nDoors at 6PM | Show at 7PM \nTickets: https://tickets.holdmyticket.com/tickets/446562?tc=hmt
URL:https://taosskivalley.com/event/matthew-marcus-mcdaniel/
LOCATION:DALEEE KTAOS\, 9 NM Hwy. 150\, El Prado\, NM\, 87529\, United States
CATEGORIES:Featured Event
ATTACH;FMTTYPE=image/jpeg:https://taosskivalley.com/wp-content/uploads/2025/08/matthew-marcus-mcdaniel-daleee-082825_event.jpg
END:VEVENT
BEGIN:VEVENT
DTSTART;TZID=America/Denver:20250830T093000
DTEND;TZID=America/Denver:20250830T160000
DTSTAMP:20260423T023433
CREATED:20250609T214755Z
LAST-MODIFIED:20250827T172554Z
UID:10004100-1756546200-1756569600@taosskivalley.com
SUMMARY:Barks\, Bacon\, & Brews
DESCRIPTION:Join TAOS for a tail-wagging good time at Barks\, Bacon & Brews! This event combines the best of pets\, bacon\, and craft brews in one unforgettable day\, all while supporting a great cause. Bring your furry friends and enjoy a 5K fun run/walk with your dog\, where participants and their pups can get moving for a good cause. Afterward\, show off your pet’s creativity in our fun pet costume contest\, with prizes awaiting the most paw-some outfits! Prizes supplied by Tall Tails and JSX. 1st place winner of the pet costume contest will receive a voucher for 2 roundtrip tickets on JSX! \nFor the foodies\, indulge in a variety of bacon-themed bites from local restaurants. And for the beer lovers\, dive into a craft beer tasting featuring the finest brews from local breweries. With live music\, dog-friendly activities\, and an array of local vendors\, this is the ultimate celebration for pet lovers\, foodies\, and beer enthusiasts alike! \nPurchase your tickets here: Barks\, Bacon & Brews \nEvent Schedule: \n9:30AM: Registration for 5K Fun Run/Walk and Pet Costume Contest Opens | Lower Plaza \n10AM: Live Music by DJ Floor Da Mike | Upper Plaza \n10:45AM: Pet Costume Contest | Upper Plaza \n11AM: 5K Fun Run/Walk Start | Base of Lift 1 \n11:30AM: Plein Air Painting | Base of Lift 1* \n12PM: Beer and Food Tasting Tents Open | Upper and Lower Plaza \n3PM: Basics of Pickleball | Pickleball Court* \n4PM: Beer and Food Tasting Tents Close | Upper and Lower Plaza \n*these activities are part of our free weekly programming \nLodging Discount:\nExtend your experience and make a weekend of it! After purchasing your event ticket\, you’ll gain access to exclusive lodging discounts at The Blake\, perfect for those looking to relax and enjoy the festivities without the rush to leave. Whether you’re traveling from near or far\, we’ve got you covered with special rates just for event attendees.
URL:https://taosskivalley.com/event/barks-bacon-and-brews/
LOCATION:Taos Ski Valley Resort Plaza\, 200 Thunderbird Road\, Taos Ski Valley\, NM\, 87525\, United States
CATEGORIES:Featured Event
ATTACH;FMTTYPE=image/jpeg:https://taosskivalley.com/wp-content/uploads/2025/06/barks-bacon-brews_event.jpg
END:VEVENT
BEGIN:VEVENT
DTSTART;TZID=America/Denver:20250830T190000
DTEND;TZID=America/Denver:20250830T220000
DTSTAMP:20260423T023433
CREATED:20250806T190222Z
LAST-MODIFIED:20250827T181432Z
UID:10004494-1756580400-1756591200@taosskivalley.com
SUMMARY:Mothership Labor Day Cookout
DESCRIPTION:Taos Mesa Brewing presents: 1st Annual Mothership Labor Day Cookout! Featuring excellent local flavors of music and treats.\n\nMusic by: Big Violet\, Lady’s Mantle\, Jack Lorang\, and Dandelioness \n$10\, Doors 5PM\, Show 6PM \nEstimated Set Times: *Subject to change \n6 – 6:40 Dandelioness\n7 – 7:40 Jack Lorang\n8 – 9:00 Lady’s Mantle\n9:20 – 10:30 Big Violet \nBuy Tickets \nSeafood boil provided by ACEQ on site catering –\nEnjoy Louisiana influenced seafood boil with Shrimp\, mussels\, andouille sausage\, corn \, mushroom\, green beans $25 plate\, come hungry!
URL:https://taosskivalley.com/event/mothership-labor-day-cookout/
LOCATION:Taos Mothership\, 20 ABC Mesa Rd.\, El Prado\, NM\, 87529
CATEGORIES:Featured Event
ATTACH;FMTTYPE=image/jpeg:https://taosskivalley.com/wp-content/uploads/2025/08/labor-day-cookout-2025-mothership_event.jpg
END:VEVENT
END:VCALENDAR