BEGIN:VCALENDAR
VERSION:2.0
PRODID:-//Taos Ski Valley - ECPv6.15.20//NONSGML v1.0//EN
CALSCALE:GREGORIAN
METHOD:PUBLISH
X-ORIGINAL-URL:https://taosskivalley.com
X-WR-CALDESC:Events for Taos Ski Valley
REFRESH-INTERVAL;VALUE=DURATION:PT1H
X-Robots-Tag:noindex
X-PUBLISHED-TTL:PT1H
BEGIN:VTIMEZONE
TZID:UTC
BEGIN:STANDARD
TZOFFSETFROM:+0000
TZOFFSETTO:+0000
TZNAME:UTC
DTSTART:20240101T000000
END:STANDARD
END:VTIMEZONE
BEGIN:VTIMEZONE
TZID:America/Denver
BEGIN:DAYLIGHT
TZOFFSETFROM:-0700
TZOFFSETTO:-0600
TZNAME:MDT
DTSTART:20240310T090000
END:DAYLIGHT
BEGIN:STANDARD
TZOFFSETFROM:-0600
TZOFFSETTO:-0700
TZNAME:MST
DTSTART:20241103T080000
END:STANDARD
BEGIN:DAYLIGHT
TZOFFSETFROM:-0700
TZOFFSETTO:-0600
TZNAME:MDT
DTSTART:20250309T090000
END:DAYLIGHT
BEGIN:STANDARD
TZOFFSETFROM:-0600
TZOFFSETTO:-0700
TZNAME:MST
DTSTART:20251102T080000
END:STANDARD
BEGIN:DAYLIGHT
TZOFFSETFROM:-0700
TZOFFSETTO:-0600
TZNAME:MDT
DTSTART:20260308T090000
END:DAYLIGHT
BEGIN:STANDARD
TZOFFSETFROM:-0600
TZOFFSETTO:-0700
TZNAME:MST
DTSTART:20261101T080000
END:STANDARD
END:VTIMEZONE
BEGIN:VEVENT
DTSTART;TZID=UTC:20250605T180000
DTEND;TZID=UTC:20250605T200000
DTSTAMP:20260422T230237
CREATED:20250501T233616Z
LAST-MODIFIED:20250530T235533Z
UID:10000558-1749146400-1749153600@taosskivalley.com
SUMMARY:Taos Opera Institute: TOI Ensemble Singers
DESCRIPTION:Taos Opera Institute presents the TOI Ensemble Singers at the Taos Country Club. The TOI Ensemble (4-5 Singers) presents a concert of opera favorites\, Broadway gems and familiar ensembles at this special event. \nCome catch the sunset\, stunning views\, and enjoy TOI’s fabulous singers\, along with heavy hors d’oeuvres and a cash bar. \n6-8pm\nPrice: $65/Ticket\, includes concert and heavy hors d’oeuvres\nPurchase your tickets \nTaos Opera Institute (TOI) was established by Mary Jane Johnson and Linda Poetschke in 2007 as a four-week\, intensive program designed to bridge the gap between academia and apprenticeships for the emerging young vocal artist. Every Friday & Saturday\, the Artists perform in two public concerts which feature their arias from that week\, sharing with our audiences their hard work and skills gained.
URL:https://taosskivalley.com/event/taos-opera-institute-summer-song-with-the-toi-ensemble-singers/
LOCATION:Taos Country Club\, 54 Golf Course Drive\, Ranchos De Taos\, NM\, 87557
CATEGORIES:Featured Event
ATTACH;FMTTYPE=image/jpeg:https://taosskivalley.com/wp-content/uploads/2023/05/toi-summer-song-2024_event.jpg
END:VEVENT
BEGIN:VEVENT
DTSTART;TZID=America/Denver:20250606T200000
DTEND;TZID=America/Denver:20250606T220000
DTSTAMP:20260422T230237
CREATED:20250603T173407Z
LAST-MODIFIED:20250605T220234Z
UID:10003930-1749240000-1749247200@taosskivalley.com
SUMMARY:Anthony Torrez & The Regulators + Toni & the Kickback Counselors
DESCRIPTION:Get ready for a night of boot-stompin’\, heart-thumpin’ country music under the Taos sky with Anthony Torrez & The Regulators + Toni & the Kickback Counselors! \nGet down with this powerhouse Outlaw Country band forged in the heart of New Mexico. With gritty vocals\, genre-jumping instrumentals\, and a passion for rhythm and sound\, they bring a dynamic performance that’s both raw and unforgettable. \nOpening the night are Toni & The Kickback Counselors\, a Red Dirt Country outfit from Central New Mexico. Known for their high-energy shows and rich blend of country\, rock\, and roots\, they’ve played stages across the Southwest\, from dance halls to concert venues in Texas\, South Dakota\, Georgia\, and beyond. \nTickets: $7 Advance | $10 at the Door
URL:https://taosskivalley.com/event/anthony-torrez-the-regulators-toni-the-kickback-counselors/
LOCATION:DALEEE KTAOS\, 9 NM Hwy. 150\, El Prado\, NM\, 87529\, United States
CATEGORIES:Featured Event
ATTACH;FMTTYPE=image/jpeg:https://taosskivalley.com/wp-content/uploads/2025/06/anthony-torrez-the-regulators-daleee-060625_event.jpg
END:VEVENT
BEGIN:VEVENT
DTSTART;TZID=America/Denver:20250610T180000
DTEND;TZID=America/Denver:20250610T200000
DTSTAMP:20260422T230237
CREATED:20250609T183645Z
LAST-MODIFIED:20250609T183922Z
UID:10004082-1749578400-1749585600@taosskivalley.com
SUMMARY:Taos Mountain Bike Association 2nd Tuesday Social Ride - Horsethief Trail
DESCRIPTION:Join TMBA for a roll on Horsethief Mesa Tuesday Evening.  Multiple options are available for casual or uptempo riding. Meet at the new parking lot TMBA helped to fund and BYOB for après ride.\n\n\nHorsethief Mesa Loop Mountain Bike Trail\, Arroyo Hondo\, New Mexico \n\nArroyo Hondo Dump Rd\, El Prado\, NM 87529 \n\nWaivers are required for 2025 participants and are available at\nTaosmtb.org\nIf you have signed it for this 2025 year you are set!\nPlease come on out and ride with us\, and consider volunteering for our board to help keep the riding stoke high. We are always looking for more additions to our team.
URL:https://taosskivalley.com/event/tmba-2nd-tuesday-social-ride-horsethief-trail/
LOCATION:NM
CATEGORIES:Featured Event
ATTACH;FMTTYPE=image/jpeg:https://taosskivalley.com/wp-content/uploads/2024/09/tmba-rift-valley-overlook_event.jpg
END:VEVENT
BEGIN:VEVENT
DTSTART;TZID=America/Denver:20250613T180000
DTEND;TZID=America/Denver:20250613T220000
DTSTAMP:20260422T230237
CREATED:20250609T225603Z
LAST-MODIFIED:20250609T225647Z
UID:10002341-1749837600-1749852000@taosskivalley.com
SUMMARY:Saritah LIVE from Australia
DESCRIPTION:Join in for a soul-stirring night of conscious reggae\, roots\, and acoustic vibes with internationally acclaimed songstress Saritah! ✨ Known for her uplifting lyrics and powerful feminine energy\, Saritah’s music is a vibrant fusion of reggae\, soul\, and dancehall – made to move hearts and hips. \nOpening set by Jah Spur\nVibes by Selector Cush Culture\nLive art by Ras Elijah \n$15 advance | $20 at the door\nhttps://tickets.holdmyticket.com/tickets/448734
URL:https://taosskivalley.com/event/saritah-live-from-australia/
LOCATION:DALEEE KTAOS\, 9 NM Hwy. 150\, El Prado\, NM\, 87529\, United States
CATEGORIES:Featured Event
ATTACH;FMTTYPE=image/jpeg:https://taosskivalley.com/wp-content/uploads/2024/08/saritah-daleee-061325_event.jpg
END:VEVENT
BEGIN:VEVENT
DTSTART;TZID=America/Denver:20250615T170000
DTEND;TZID=America/Denver:20250615T183000
DTSTAMP:20260422T230237
CREATED:20250521T221246Z
LAST-MODIFIED:20250610T011351Z
UID:10003746-1750006800-1750012200@taosskivalley.com
SUMMARY:Borromeo String Quartet
DESCRIPTION:Join the renowned Borromeo String Quartet for an unforgettable evening of musical mastery\, featuring two works composed specifically for the ensemble: Mehmet Sanlikol’s evocative The Demons and Humans of Siyah-Kalem\, a vivid exploration of myth and humanity\, and Aaron Kernis’s String Quartet No. 4: Oasis\, a luminous journey of serenity and depth. The program culminates in Beethoven’s profound Opus 130 with the iconic Grosse Fuge\, a timeless masterpiece of intensity and innovation that is often cited as the greatest work of music ever composed. Don’t miss this extraordinary blend of contemporary brilliance and classical genius\, performed by one of the world’s premier quartets. \nProgram\nMehmet Sanlikol : The Demons and Humans of Siyah-Kalem (composed for Borromeo)\nAaron Kernis: SQ #4 Oasis (composed for Borromeo)\n–––\nBeethoven Op 130 (with Grosse Fuge) \nWith ticket\, receive 20% discount off food at Doc Martin’s Restaurant at The Historic Taos Inn after the concert. \nBorromeo String Quartet\nThe visionary performances of the Borromeo String Quartet have established them as one of the most important string quartets of our time. “They probe and analyze from every angle until they discover how to best unveil the psychological\, physical\, and spiritual states that a great piece of music evokes. They’re champions of new music…but they also thrive on making the old classics sound vital and fresh\,” said Cathy Fuller\, Classical New England host on WGBH radio. She continued\, “To hear and see them perform has always felt to me like taking a private tour through a composer’s mind.” The Borromeo have been trailblazers in the use of laptop computers for reading music. This method allows them to perform entirely from 4-part scores and also composer’s manuscripts\, a revealing and transformative experience that they now teach to students around the world. \nFor more information and tickets.
URL:https://taosskivalley.com/event/borromeo-string-quartet/
LOCATION:Taos Center for the Arts\, 145 Paseo Del Pueblo Norte\, Taos\, NM\, 87571\, United States
CATEGORIES:Featured Event
ATTACH;FMTTYPE=image/jpeg:https://taosskivalley.com/wp-content/uploads/2023/05/borromeo-string-quartet_event.jpg
END:VEVENT
BEGIN:VEVENT
DTSTART;TZID=America/Denver:20250620T170000
DTEND;TZID=America/Denver:20250620T200000
DTSTAMP:20260422T230237
CREATED:20250612T222639Z
LAST-MODIFIED:20250623T153043Z
UID:10004106-1750438800-1750449600@taosskivalley.com
SUMMARY:Stephanie Urbina Jones and The Honky Tonk Mariachi
DESCRIPTION:Blazing trails from Texas to Mexico\, Stephanie Urbina Jones & the Honky Tonk Mariachi (Trio) are bringing their revolutionary fusion of classic country rock and joyful Mexican sounds—fondly known as “country music with chili peppers”—to Taos! \nJoin us for an unforgettable night of music\, culture\, and connection as this history-making band shares soul-stirring songs and stories that build bridges and break boundaries. From the Grand Ole Opry to international festivals\, Stephanie’s voice and fiery band are a celebration of unity and rhythm! \nA Taos Roots benefit concert. \nFriday\, June 20th\, 2025\nDoors: 4 PM | Silent Auction: 5 PM | Showtime: 6 PM\nTickets: $15 (online & at the door)\nDALEEE KTAOS\, 9 NM 150\, Taos\, NM 87571 \nSponsored by Mattress Mary’s Taos Lifestyle\, Casa Benavidez and Legacy Cafe.  \nTickets: https://tickets.holdmyticket.com/tickets/448732
URL:https://taosskivalley.com/event/stephanie-urbina-jones-and-the-honky-tonk-mariachi/
LOCATION:DALEEE KTAOS\, 9 NM Hwy. 150\, El Prado\, NM\, 87529\, United States
CATEGORIES:Featured Event
ATTACH;FMTTYPE=image/jpeg:https://taosskivalley.com/wp-content/uploads/2025/06/stephanie-urbina-jones-daleee_event.jpg
END:VEVENT
BEGIN:VEVENT
DTSTART;TZID=America/Denver:20250621T110000
DTEND;TZID=America/Denver:20250621T170000
DTSTAMP:20260422T230237
CREATED:20250603T172425Z
LAST-MODIFIED:20250610T225619Z
UID:10001857-1750503600-1750525200@taosskivalley.com
SUMMARY:Ledoux Street Block Party
DESCRIPTION:You are invited Saturday\, June 21 from 11am-5pm for the Third Annual Ledoux Street Block Party. Don’t miss hands-on art-making\, face painting\, a raffle\, food vendors\, and a local artist market featuring over a dozen regional artists. Featuring free museum admission all day for everyone! \nThis years musical lineup will feature The Neighbors\, The Arellano Brothers\, and Katy P & the Business. They will be joined by local youth groups.   \nThe Museum’s Ledoux Street neighbors will open their doors to be a part of the festivities. These include Barra Vino\, Omni Hum\, Inger Jirby Gallery\, Blumenschein Home and Museum\, The Valley\, Reneux Consignment\, Buttercup Salon & Stuff\, and Suchness. Our community partners Taos Public Library\, Georgia O’Keefe Museum\, Taos Pride\, Youth Heartline\, Taos Ski Valley\, Taos Mainstreet\, and Arroyo Seco Live will join us for this festive celebration hosting activities up and down the block. \nSanchez Tacos and Crepes & Coffee will provide delicious snacks in addition to sweet treats from Loteria Paleteria. This day offers something inspiring for everyone\, whether you are visiting Taos for the day or have lived here for generations.  \nSHOP WITH LOCAL ARTISTS. This year’s Artist Market will feature Laurie Balliet\, Erica Collins\, Suann Davin\, Merle Derse\, Amber Faith\, Kate Henke\, Kimmy Henkel\, Samantha Platero (DINEH)\, Melanie Ritter\, Kyle Reminger\, Rachael Saum\, JWDC Jonathan Warm-Day Coming\, and Izumi Yokoyama. This vibrant event celebrates the diverse talent of local Taos and Northern New Mexican artists who partner with the Museum Store at Harwood. Connect directly with the makers and purchase pieces straight from the source in a meaningful way to support art.  \nCELEBRATE THE OPENING of Same Place at the Same Time.  In tandem with Block Party\, the museum will host the opening celebration of The Same Place at the Same Time\, an exhibition featuring Taos-based wood-fired ceramics artists and highlighting local creative communities. The event includes artist talks and live demonstrations throughout the day by contributing artists Marta Brava\, Rebecca Browning\, Miki Carlini\, Turiya Gross\, Bina\, and Bianca Loscocco.  \nCONTRIBUTE YOUR VOICE TO THE NEW CENTER FOR CREATIVE LEARNING. Harwood is pleased to open the gates to the future Stephanie Mitchell Smith Center for Creative Learning as part of the Blok Party festivities. This generous donation of a neighboring historic property will expand the educational offerings of the museum for generations to come. Join New Mexico Main Street\, Anthropopulus Designs\, and Harwood Education team members to envision the future of this multi-purpose space for arts education. 
URL:https://taosskivalley.com/event/ledoux-street-block-party/
LOCATION:Ledoux Street\, Taos\, NM
CATEGORIES:Featured Event
ATTACH;FMTTYPE=image/jpeg:https://taosskivalley.com/wp-content/uploads/2025/06/ledoux-block-party-2025_event.jpg
END:VEVENT
BEGIN:VEVENT
DTSTART;TZID=UTC:20250621T170000
DTEND;TZID=UTC:20250621T180000
DTSTAMP:20260422T230237
CREATED:20250521T212708Z
LAST-MODIFIED:20250711T225324Z
UID:10001917-1750525200-1750528800@taosskivalley.com
SUMMARY:Taos School of Music: Young Artist Performances in Taos Ski Valley
DESCRIPTION:Be blown away by the power\, virtuosity\, and energy of the Taos School of Music Young Artists. These are the next generation of the world’s greatest musicians\, and you’ll be watching them on the world’s stage for years to come. These performances showcase the rising stars of the prestigious music program\, delivering masterful interpretations of beloved chamber music masterpieces. These gifted early-career artists\, hailing from the world’s leading consevatories\, bring passion and precision to every note. Join us for an inspiring evening of music that promises to captivate and celebrate the future of classical performance. \nWith attendance\, receive a coupon for 20% off food at 192 at The Blake in Taos Ski Valley. \nThis group of 19 exceptional violinists\, violists\, cellists\, and pianists is inspiring not only for their amazing artistry but also for their advocacy for music’s role in society. \nAll Taos Ski Valley performances are at the Rio Hondo Learning Center: \nSaturday\, June 21 • 5pm\nSaturday\, July 5 • 5pm\nSaturday\, July 19 • 5pm\nSaturday\, August 2 • 5pm \nFor more information and tickets.
URL:https://taosskivalley.com/event/taos-school-of-music-young-artist-tsv/2025-06-21/
LOCATION:Rio Hondo Learning Center\, 5 Firehouse Road\, Taos Ski Valley\, NM\, 87525
CATEGORIES:Featured Event
ATTACH;FMTTYPE=image/jpeg:https://taosskivalley.com/wp-content/uploads/2022/07/taos-school-of-music-young-artist-performances_event.jpg
END:VEVENT
BEGIN:VEVENT
DTSTART;TZID=America/Denver:20250621T190000
DTEND;TZID=America/Denver:20250621T220000
DTSTAMP:20260422T230237
CREATED:20250620T164147Z
LAST-MODIFIED:20250623T153029Z
UID:10004208-1750532400-1750543200@taosskivalley.com
SUMMARY:Alison Krauss & Union Station
DESCRIPTION:Alison Krauss & Union Station featuring Jerry Douglas \nFor nearly four decades\, Alison Krauss & Union Station have upheld their legacy as one of the most influential and widely celebrated acts in bluegrass and roots music. Known for an immaculately crafted but endlessly surprising sound that transcends the boundaries of roots\, country\, rock & roll\, and pop\, Alison Krauss & Union Station are putting the finishing touches on a new album to be released in 2025—their first since the 2011 masterpiece Paper Airplane—a critically lauded\, multiple Grammy Award-winning LP that debuted at #1 on the Billboard Country\, Bluegrass\, and Folk Album charts. Over the years\, Alison Krauss & Union Station have brought their phenomenal live show to sold-out performances at famed venues like Red Rocks Amphitheatre\, The Greek Theatre\, Radio City Music Hall\, and London’s Royal Festival Hall\, in addition to supporting Paul Simon in Hyde Park for his 2012 Graceland reunion. They now gear up for their first tour together since 2015. The players—Alison Krauss (fiddle\, lead vocal)\, Jerry Douglas (Dobro\, lap steel\, vocals)\, Ron Block (banjo\, guitar)\, Barry Bales (bass\, vocals)\, and welcoming highly acclaimed and celebrated tenor vocalist Russell Moore (guitar\, mandolin\, lead vocal) as the newest member—are five distinct personalities\, each of whom enjoys a flourishing solo career. But when they come together\, they transform into a peerless group of musicians who share a singular focus. \nMore information and Tickets \nSaturday\, June 21\, 2025\n7:00 PM to 10:30 PM\nDOORS 5:3pm   •  All Ages
URL:https://taosskivalley.com/event/alison-krauss-union-station/
LOCATION:Red Willow Park\, Town of Taos\, 211 Paseo Del Pueblo Norte\, Taos\, NM\, 87571
CATEGORIES:Featured Event
ATTACH;FMTTYPE=image/jpeg:https://taosskivalley.com/wp-content/uploads/2025/06/allison-krauss-and-union-station_event.jpg
END:VEVENT
BEGIN:VEVENT
DTSTART;TZID=America/Denver:20250626T170000
DTEND;TZID=America/Denver:20250626T180000
DTSTAMP:20260422T230237
CREATED:20250602T212252Z
LAST-MODIFIED:20250620T164512Z
UID:10001925-1750957200-1750960800@taosskivalley.com
SUMMARY:Free Chamber Music Seminar with the Jupiter String Quartet
DESCRIPTION:Explore the art of chamber music and conversation with Jupiter String Quartet\, one of the country’s preeminent string quartets (all of whom are alumni of the Taos School of Music). \n\nWith ticket\, receive 20% discount off food at 192 at the Blake in Taos Ski Valley after the seminar. \nJoin this acclaimed ensemble in a musical journey. \nRio Hondo Learning Center\, Taos Ski Valley\nThursday\, June 26th 2025\nDoors 4:30pm\, Concert 5:00pm  |  All Ages\nFree admission
URL:https://taosskivalley.com/event/jupiter-string-quartet-seminar/
LOCATION:Rio Hondo Learning Center\, 5 Firehouse Road\, Taos Ski Valley\, NM\, 87525
CATEGORIES:Featured Event
ATTACH;FMTTYPE=image/jpeg:https://taosskivalley.com/wp-content/uploads/2024/06/jupiter-string-quartet_event.jpg
END:VEVENT
BEGIN:VEVENT
DTSTART;TZID=America/Denver:20250626T170000
DTEND;TZID=America/Denver:20250626T210000
DTSTAMP:20260422T230237
CREATED:20250617T174707Z
LAST-MODIFIED:20250623T153031Z
UID:10004207-1750957200-1750971600@taosskivalley.com
SUMMARY:School of Rock House Band
DESCRIPTION:School of Rock House Bands famously draw all ages\, impressing older rock fans with their musical skill and mesmerizing younger audiences with their infectious exuberance. Join us as students (ranging in age from 10 to 18) from Albuquerque\, Broomfield\, and Denver\, CO perform a mix of rock and roll covers that span the decades. With a set list ranging from Led Zeppelin to Amy Winehouse\, from Black Sabbath to the B-52’s\, there’s something for everyone to enjoy! A School of Rock House Band set is an amazing thing to watch. Our students rock the stage with incredible\, beyond-their-years chops and stir the crowd with electrifying stage presence. \nThursday\, June 26th from 5-9 PM \nTickets: $12 in adv | $15 at the door
URL:https://taosskivalley.com/event/school-of-rock-house-band/
LOCATION:DALEEE KTAOS\, 9 NM Hwy. 150\, El Prado\, NM\, 87529\, United States
CATEGORIES:Featured Event
ATTACH;FMTTYPE=image/jpeg:https://taosskivalley.com/wp-content/uploads/2025/06/school-of-rock-house-band-daleee_event.jpg
END:VEVENT
BEGIN:VEVENT
DTSTART;TZID=UTC:20250628T190000
DTEND;TZID=UTC:20250628T210000
DTSTAMP:20260422T230237
CREATED:20250501T225413Z
LAST-MODIFIED:20250624T174754Z
UID:10000569-1751137200-1751144400@taosskivalley.com
SUMMARY:Taos Opera Institute: TOI Singers Showcase Performance
DESCRIPTION:Taos Opera Institute presents the 17th Annual TOI Singers Showcase Performance at the Taos Center for the Arts in the Town of Taos. All TOI Young Artists present opera scenes\, ensembles and musical theatre favorites in this annual Showcase of talent and the culmination of their participation in the TOI Program. \nMusic of Michael Ching\, Classic Opera Scenes & Broadway. \nTickets: $30\nPurchase Tickets Here \nTaos Opera Institute (TOI) was established by Mary Jane Johnson and Linda Poetschke in 2007 as a four-week\, intensive program designed to bridge the gap between academia and apprenticeships for the emerging young vocal artist.
URL:https://taosskivalley.com/event/taos-opera-institute-showcase-performance/
LOCATION:Taos Center for the Arts\, 145 Paseo Del Pueblo Norte\, Taos\, NM\, 87571\, United States
CATEGORIES:Featured Event
ATTACH;FMTTYPE=image/jpeg:https://taosskivalley.com/wp-content/uploads/2025/05/taos-opera-institute-showcase-2023_event.jpg
END:VEVENT
BEGIN:VEVENT
DTSTART;TZID=America/Denver:20250628T193000
DTEND;TZID=America/Denver:20250628T213000
DTSTAMP:20260422T230237
CREATED:20250612T214021Z
LAST-MODIFIED:20250624T180911Z
UID:10002092-1751139000-1751146200@taosskivalley.com
SUMMARY:John Rangel Sextet
DESCRIPTION:Back by popular demand. Taos Jazz Bebop Society and Harwood Museum of Art bring you the John Rangel Sextet! \nKnown for his very original and swinging style at the piano\, John Rangel brings a wide range of experience and intention to every composition and performance. Multi-instrumentalist\, composer\, producer and educator\, Rangel is currently Music Chairman for the New Mexico School for the Arts which gives him a direct line to emerging jazz talent. One of his great passions is playing music with brilliant young musicians. \nThe John Rangel Sextet features exciting young players from the Santa Fe area\, several of whom have been Rangel’s students. All have bright futures in jazz. Under Rangel’s leadership\, they explore a tremendous range of jazz styles and creative arrangements from hard swinging bebop to beautiful ballads and soulful original compositions by band members. \nAsh Mattia\, the youngest member of the band and a current student of Rangel’s\, is a founding member of Zaphica\, which won 2024 Best Arrangement of an Original Recording from the New Mexico Music Awards. Saxophonist Dominic Martinez studied with Rangel before graduating from California Institute of the Arts. Trumpeter Robby Beasley teaches at UNM and alongside Rangel at New Mexico School of the Arts\, and has become the most in demand trumpet player in New Mexico. Bassist Cyrus Campbell\, a Santa Fe native\, excelled at the Berklee College of Music where he studied performance and composition\, and is now one of the premier jazz bassists in New Mexico. Drummer Jonah Minkus\, at 22\, has already made a name for himself in the jazz and indie music scene around the Southwest and beyond. \nHeralding a New Era of New Mexico Jazz!
URL:https://taosskivalley.com/event/john-rangel-sextet/
LOCATION:Harwood Museum of Art\, 238 Ledoux Street\, Taos\, NM\, 87571
CATEGORIES:Featured Event
ATTACH;FMTTYPE=image/jpeg:https://taosskivalley.com/wp-content/uploads/2025/06/john-rangel-sextet-2025_event.jpg
END:VEVENT
BEGIN:VEVENT
DTSTART;TZID=America/Denver:20250629T170000
DTEND;TZID=America/Denver:20250629T183000
DTSTAMP:20260422T230237
CREATED:20250602T215933Z
LAST-MODIFIED:20250624T174903Z
UID:10001926-1751216400-1751221800@taosskivalley.com
SUMMARY:Jupiter String Quartet with Pianist Robert McDonald
DESCRIPTION:The Jupiter String Quartet and new Taos School of Music faculty members perform with legendary pianist Robert McDonald. \nImmerse yourself in an evening of profound musical artistry with the acclaimed Jupiter String Quartet. This captivating program opens with Brahms’ intense and lyrical String Quartet No. 1\, Op. 51 in C Minor\, followed by Caroline Shaw’s innovative and mesmerizing Entr’acte\, a modern gem that bridges past and present. The concert concludes with the lush\, emotive Franck Piano Quintet\, performed alongside the masterful pianist Robert McDonald\, whose virtuosity elevates this passionate masterpiece. Don’t miss this unforgettable performance\, where tradition and innovation intertwine with breathtaking precision and soul. \nProgram: \nBrahms String Quartet No. 1\, Op. 51 in C Minor\nCaroline Shaw Entr’acte\n–––\nFranck Piano Quintet with pianist Robert McDonald \nWith a ticket\, enjoy a 20% discount on food at Doc Martin’s Restaurant at The Historic Taos Inn after the concert. \nThe Jupiter String Quartet is a particularly intimate group\, consisting of violinists Nelson Lee and Meg Freivogel\, violist Liz Freivogel (Meg’s older sister)\, and cellist Daniel McDonough (Meg’s husband\, Liz’s brother-in-law). Founded in 2001\, this tight-knit ensemble is firmly established as an important voice in the world of chamber music\, and exudes an energy that is at once friendly\, knowledgeable\, and adventurous. The New Yorker states\, “The Jupiter String Quartet\, an ensemble of eloquent intensity\, has matured into one of the mainstays of the American chamber-music scene.”  The quartet has performed across the United States\, Canada\, Europe\, Asia\, and the Americas in some of the world’s finest halls. \nPianist Robert McDonald has played extensively as a soloist and chamber musician throughout the United States\, Europe\, Asia\, and South America. He has appeared with major orchestras in the United States and Latin America\, and was the recital partner for many years to Isaac Stern\, as well as other celebrated instrumentalists. Mr. McDonald has also performed with the Takács\, Vermeer\, Juilliard\, Brentano\, Borromeo\, American\, and Shanghai string quartets\, and in tours with Music from Marlboro. \nA member of the piano faculty at the Juilliard School since 1999\, Mr. McDonald joined the faculty of the Curtis Institute of Music in 2007. In addition to coaching piano at Taos School of Music\, he is also the school’s artistic director. This will be his forty-first summer in Taos.
URL:https://taosskivalley.com/event/jupiter-string-quartet-with-pianist-robert-mcdonald/
LOCATION:Taos Center for the Arts\, 145 Paseo Del Pueblo Norte\, Taos\, NM\, 87571\, United States
CATEGORIES:Featured Event
ATTACH;FMTTYPE=image/jpeg:https://taosskivalley.com/wp-content/uploads/2025/06/jupiter-string-quartet-with-robert-mcdonald-2025_event.jpg
END:VEVENT
END:VCALENDAR