BEGIN:VCALENDAR
VERSION:2.0
PRODID:-//Taos Ski Valley - ECPv6.15.20//NONSGML v1.0//EN
CALSCALE:GREGORIAN
METHOD:PUBLISH
X-ORIGINAL-URL:https://taosskivalley.com
X-WR-CALDESC:Events for Taos Ski Valley
REFRESH-INTERVAL;VALUE=DURATION:PT1H
X-Robots-Tag:noindex
X-PUBLISHED-TTL:PT1H
BEGIN:VTIMEZONE
TZID:UTC
BEGIN:STANDARD
TZOFFSETFROM:+0000
TZOFFSETTO:+0000
TZNAME:UTC
DTSTART:20230101T000000
END:STANDARD
END:VTIMEZONE
BEGIN:VTIMEZONE
TZID:America/Denver
BEGIN:DAYLIGHT
TZOFFSETFROM:-0700
TZOFFSETTO:-0600
TZNAME:MDT
DTSTART:20230312T090000
END:DAYLIGHT
BEGIN:STANDARD
TZOFFSETFROM:-0600
TZOFFSETTO:-0700
TZNAME:MST
DTSTART:20231105T080000
END:STANDARD
BEGIN:DAYLIGHT
TZOFFSETFROM:-0700
TZOFFSETTO:-0600
TZNAME:MDT
DTSTART:20240310T090000
END:DAYLIGHT
BEGIN:STANDARD
TZOFFSETFROM:-0600
TZOFFSETTO:-0700
TZNAME:MST
DTSTART:20241103T080000
END:STANDARD
BEGIN:DAYLIGHT
TZOFFSETFROM:-0700
TZOFFSETTO:-0600
TZNAME:MDT
DTSTART:20250309T090000
END:DAYLIGHT
BEGIN:STANDARD
TZOFFSETFROM:-0600
TZOFFSETTO:-0700
TZNAME:MST
DTSTART:20251102T080000
END:STANDARD
END:VTIMEZONE
BEGIN:VEVENT
DTSTART;TZID=UTC:20240210T090000
DTEND;TZID=UTC:20240210T183000
DTSTAMP:20260421T130541
CREATED:20240202T202339Z
LAST-MODIFIED:20240202T202348Z
UID:10000549-1707555600-1707589800@taosskivalley.com
SUMMARY:B4BC's Love Your Peaks: Boarding for Breast Cancer
DESCRIPTION:TAOS Ski Valley is once again proud to host B4BC’s Love Your Peaks taking place on Saturday\, FEBRUARY 10\, 2024. The celebration will include a full day of exciting fundraising activities to benefit Boarding for Breast Cancer (B4BC) and the Anita Salas Memorial Fund. Skiers\, snowboarders\, artists\, families\, visitors and locals are invited to join in support of this important cause that affects so many of us. \n\n\nFor more information and the full days’ schedule.  \nACTIVITIES:\nTHE PINK POKER RUN\nFor all ages and all abilities\, the Pink Poker Run is a fun and interactive way to explore the mountain and support breast cancer awareness and prevention! Participants collect pink playing cards at 5 different checkpoints located around the mountain. (Locations will be announced at the booth during registration.) The three best “poker” hands at the end of the run will win awesome prizes. Wearing pink can help you win! Participants are encouraged to wear their best pink costume. Pink Poker Run registration is a $25 donation and you will receive a B4BC goodie bag (NOTE: A valid lift ticket is required). Participants are encouraged to register in advance on this Classy Fundraising page***. Fundraise as much as you can in your own community\, as the Top Fundraisers will win incredible prizes! Upon registration\, you can share your fundraising page with friends and family to raise funds towards Boarding for Breast Cancer’s education\, prevention and survivor support programs. \nTRIBUTE RIDE\nMeet at the B4BC tent at 3PM for the Tribute Ride\, and take a run together while wearing pink and honoring loved ones fighting breast cancer.
URL:https://taosskivalley.com/event/love-your-peaks-boarding-for-breast-cancer/
LOCATION:Taos Ski Valley\, Taos Ski Valley\, NM\, 87525
CATEGORIES:Featured Event
ATTACH;FMTTYPE=image/jpeg:https://taosskivalley.com/wp-content/uploads/2022/12/boarding-4-breast-cancer_event.jpg
END:VEVENT
BEGIN:VEVENT
DTSTART;TZID=America/Denver:20240215T190000
DTEND;TZID=America/Denver:20240215T223000
DTSTAMP:20260421T130541
CREATED:20240207T232231Z
LAST-MODIFIED:20240212T170213Z
UID:10001487-1708023600-1708036200@taosskivalley.com
SUMMARY:A Mardi Gras Party with Nathan and the Zydeco Cha Chas
DESCRIPTION:Roots and Wires Presents A Mardi Gras Party with Nathan Williams and the Zydeco Cha Chas live from Lafayette\, Louisiana on Thursday February 15th at 7pm at DALEEE KTAOS Solar Center. \nLouisiana Food on the menu! Free beads! \nTickets $18 in advance at Ennui Gallery\, DALEEE or holdmyticket.com $23 day of show. Spread the word!
URL:https://taosskivalley.com/event/mardi-gras-party/
LOCATION:DALEEE KTAOS\, 9 NM Hwy. 150\, El Prado\, NM\, 87529\, United States
CATEGORIES:Featured Event
ATTACH;FMTTYPE=image/jpeg:https://taosskivalley.com/wp-content/uploads/2024/02/nathan-zydeco-cha-chas-daleee_event.jpg
END:VEVENT
BEGIN:VEVENT
DTSTART;TZID=America/Denver:20240216T160000
DTEND;TZID=America/Denver:20240216T183000
DTSTAMP:20260421T130541
CREATED:20240203T033215Z
LAST-MODIFIED:20240212T170253Z
UID:10001432-1708099200-1708108200@taosskivalley.com
SUMMARY:Gina Marianna
DESCRIPTION:As a multi-cultural musician\, Gina Marianna’s artistry is deeply rooted in the rich tapestry of global sounds and experiences. Her musical journey is a vibrant blend of genres\, from the pulsating rhythms of reggaeton to the soulful melodies of country\, and the infectious energy of pop. She is not just a performer\, but a storyteller\, writing and producing her own songs that reflect her diverse cultural experiences and personal narratives. Her music is a celebration of diversity\, a testament to the power of cross-cultural collaboration. Marianna is passionate about working with women from all corners of the globe\, incorporating their unique talents and perspectives into her work. This collective creativity results in a multi-sensory experience that transcends traditional musical boundaries\, engaging listeners on a deeper\, more profound level.
URL:https://taosskivalley.com/event/gina-marianna/
LOCATION:Martini Tree Bar\, Main Resort Plaza\, Taos Ski Valley\, NM\, 87525
CATEGORIES:Featured Event
ATTACH;FMTTYPE=image/jpeg:https://taosskivalley.com/wp-content/uploads/2024/02/gina-marianna_event.jpg
END:VEVENT
END:VCALENDAR