BEGIN:VCALENDAR
VERSION:2.0
PRODID:-//Taos Ski Valley - ECPv6.15.20//NONSGML v1.0//EN
CALSCALE:GREGORIAN
METHOD:PUBLISH
X-WR-CALNAME:Taos Ski Valley
X-ORIGINAL-URL:https://taosskivalley.com
X-WR-CALDESC:Events for Taos Ski Valley
REFRESH-INTERVAL;VALUE=DURATION:PT1H
X-Robots-Tag:noindex
X-PUBLISHED-TTL:PT1H
BEGIN:VTIMEZONE
TZID:America/Denver
BEGIN:DAYLIGHT
TZOFFSETFROM:-0700
TZOFFSETTO:-0600
TZNAME:MDT
DTSTART:20220313T090000
END:DAYLIGHT
BEGIN:STANDARD
TZOFFSETFROM:-0600
TZOFFSETTO:-0700
TZNAME:MST
DTSTART:20221106T080000
END:STANDARD
BEGIN:DAYLIGHT
TZOFFSETFROM:-0700
TZOFFSETTO:-0600
TZNAME:MDT
DTSTART:20230312T090000
END:DAYLIGHT
BEGIN:STANDARD
TZOFFSETFROM:-0600
TZOFFSETTO:-0700
TZNAME:MST
DTSTART:20231105T080000
END:STANDARD
BEGIN:DAYLIGHT
TZOFFSETFROM:-0700
TZOFFSETTO:-0600
TZNAME:MDT
DTSTART:20240310T090000
END:DAYLIGHT
BEGIN:STANDARD
TZOFFSETFROM:-0600
TZOFFSETTO:-0700
TZNAME:MST
DTSTART:20241103T080000
END:STANDARD
END:VTIMEZONE
BEGIN:VEVENT
DTSTART;TZID=America/Denver:20231214T150000
DTEND;TZID=America/Denver:20231214T170000
DTSTAMP:20260421T095607
CREATED:20231204T205123Z
LAST-MODIFIED:20231211T174649Z
UID:10000874-1702566000-1702573200@taosskivalley.com
SUMMARY:Ski & Snowboarding Swix Tuning Clinic
DESCRIPTION:FREE Ski & Snowboarding Swix Tuning Clinic at Taos Mesa Brewing Mothership\, sponsored by SWIX. What better way to get into shredding shape than with SWIX and happy hour food and drink specials. SWIX alpine manager\, Mike Beers\, has comprehensive ski racing and technical experience to help you get your boards in shape for the season. So come on out and kick off ski season with Taos Mesa Brewing!
URL:https://taosskivalley.com/event/ski-snowboarding-swix-tuning-clinic/
LOCATION:Taos Mothership\, 20 ABC Mesa Rd.\, El Prado\, NM\, 87529
CATEGORIES:Featured Event
ATTACH;FMTTYPE=image/jpeg:https://taosskivalley.com/wp-content/uploads/2023/12/taos-mesa-brewing-swix-tuning-clinic_event.jpg
END:VEVENT
BEGIN:VEVENT
DTSTART;TZID=America/Denver:20231216T160000
DTEND;TZID=America/Denver:20231216T183000
DTSTAMP:20260421T095607
CREATED:20231205T000904Z
LAST-MODIFIED:20231211T174744Z
UID:10000875-1702742400-1702751400@taosskivalley.com
SUMMARY:NM Soul
DESCRIPTION:NM Soul is a group of New Mexico musicians and Austin TX transplants who play high energy classic soul and R&B music. Join TAOS for an evening of Tina Turner and other Soul/R&B covers at the Martini Tree Bar.
URL:https://taosskivalley.com/event/nm-soul-martini-tree/
LOCATION:Martini Tree Bar\, Main Resort Plaza\, Taos Ski Valley\, NM\, 87525
CATEGORIES:Featured Event
ATTACH;FMTTYPE=image/jpeg:https://taosskivalley.com/wp-content/uploads/2023/12/NM-Soul-martini-tree_event.jpg
END:VEVENT
BEGIN:VEVENT
DTSTART;TZID=America/Denver:20231216T183000
DTEND;TZID=America/Denver:20231216T234500
DTSTAMP:20260421T095607
CREATED:20231208T202112Z
LAST-MODIFIED:20231215T232123Z
UID:10000888-1702751400-1702770300@taosskivalley.com
SUMMARY:Synchronized House
DESCRIPTION:Synchronized House featuring Ana M and her deep house Grooves coming up to party with us from ABQ to keep us warm as winter will be in full effect. \nAs direct support we have local favorite\, Magic Woman which is gonna be a great set to dance to! \nAlso coming up from ABQ is the talented Xkota and I’m happy to introduce another local homie\, kaossqt who will be opening up the night for us in the most proper way. \nSo please join us for this night of beautiful synchronized house beats as we dance the night away! \n$15 AT DOOR $10 IN ADVANCE\n18+ show
URL:https://taosskivalley.com/event/synchronized-house/
LOCATION:DALEEE KTAOS\, 9 NM Hwy. 150\, El Prado\, NM\, 87529\, United States
CATEGORIES:Featured Event
ATTACH;FMTTYPE=image/jpeg:https://taosskivalley.com/wp-content/uploads/2023/12/synchronized-house-daleee-ktaos_event.jpg
END:VEVENT
BEGIN:VEVENT
DTSTART;TZID=America/Denver:20231229T160000
DTEND;TZID=America/Denver:20231229T183000
DTSTAMP:20260421T095607
CREATED:20231212T010811Z
LAST-MODIFIED:20231227T170537Z
UID:10001064-1703865600-1703874600@taosskivalley.com
SUMMARY:Controlled Burn
DESCRIPTION:Controlled Burn is a four piece rock and blues band that plays a high energy danceable blend of everyone’s favorite music.
URL:https://taosskivalley.com/event/controlled-burn/
LOCATION:Martini Tree Bar\, Main Resort Plaza\, Taos Ski Valley\, NM\, 87525
CATEGORIES:Featured Event
ATTACH;FMTTYPE=image/jpeg:https://taosskivalley.com/wp-content/uploads/2023/12/controlled-burn-martini-tree_event.jpg
END:VEVENT
END:VCALENDAR