BEGIN:VCALENDAR
VERSION:2.0
PRODID:-//Taos Ski Valley - ECPv6.15.20//NONSGML v1.0//EN
CALSCALE:GREGORIAN
METHOD:PUBLISH
X-WR-CALNAME:Taos Ski Valley
X-ORIGINAL-URL:https://taosskivalley.com
X-WR-CALDESC:Events for Taos Ski Valley
REFRESH-INTERVAL;VALUE=DURATION:PT1H
X-Robots-Tag:noindex
X-PUBLISHED-TTL:PT1H
BEGIN:VTIMEZONE
TZID:America/Denver
BEGIN:DAYLIGHT
TZOFFSETFROM:-0700
TZOFFSETTO:-0600
TZNAME:MDT
DTSTART:20220313T090000
END:DAYLIGHT
BEGIN:STANDARD
TZOFFSETFROM:-0600
TZOFFSETTO:-0700
TZNAME:MST
DTSTART:20221106T080000
END:STANDARD
BEGIN:DAYLIGHT
TZOFFSETFROM:-0700
TZOFFSETTO:-0600
TZNAME:MDT
DTSTART:20230312T090000
END:DAYLIGHT
BEGIN:STANDARD
TZOFFSETFROM:-0600
TZOFFSETTO:-0700
TZNAME:MST
DTSTART:20231105T080000
END:STANDARD
BEGIN:DAYLIGHT
TZOFFSETFROM:-0700
TZOFFSETTO:-0600
TZNAME:MDT
DTSTART:20240310T090000
END:DAYLIGHT
BEGIN:STANDARD
TZOFFSETFROM:-0600
TZOFFSETTO:-0700
TZNAME:MST
DTSTART:20241103T080000
END:STANDARD
END:VTIMEZONE
BEGIN:VEVENT
DTSTART;TZID=America/Denver:20231022T110000
DTEND;TZID=America/Denver:20231022T170000
DTSTAMP:20260421T064439
CREATED:20230920T183500Z
LAST-MODIFIED:20231020T193600Z
UID:10000774-1697972400-1697994000@taosskivalley.com
SUMMARY:Harwood 100 More: Community Day
DESCRIPTION:Everyone is invited for the Harwood 100 More Community Day\, our second community day full of activities aimed at activating the museum space as an incubator of ideas for the future. Featuring FREE admission for all Taos County Residents as part of Harwood’s Taos Free Sunday program and activities inspired by the Harwood Centennial theme\, “Envisioning the Future.” \nThis program is part of Harwood 100 More: Envisioning the Future\, a weekend of programs aimed at sparking community dialogue about how to sustain a vibrant\, equitable\, and inclusive creative future in Taos. \nALL DAY: \nExhibitions Open and FREE For Everyone \nArt Making For All Ages. Come share your vision and build the museum of the future out of recycled cardboard! \n11:30 am Storytime in Harwood Backyard \n12:30 pm “Indigenous Visions for the Future of Museums” Talk by Jaclyn Roessel of Grownup Navajo \n1:30 pm– Panel Discussion: Envisioning the Future for Taos’ Museums featuring museum leaders in conversation with Jaclyn Roessel \n3:00 pm– Harwood Strategic Plan Town Hall with Eduardo Martinez of Meridian Strategies
URL:https://taosskivalley.com/event/harwood-100-more-community-day/
LOCATION:Harwood Museum of Art\, 238 Ledoux Street\, Taos\, NM\, 87571
CATEGORIES:Featured Event
ATTACH;FMTTYPE=image/jpeg:https://taosskivalley.com/wp-content/uploads/2023/09/harwood-envisioning-future-community-day_event.jpg
END:VEVENT
BEGIN:VEVENT
DTSTART;TZID=America/Denver:20231027T190000
DTEND;TZID=America/Denver:20231027T220000
DTSTAMP:20260421T064439
CREATED:20231011T223944Z
LAST-MODIFIED:20231016T160435Z
UID:10000787-1698433200-1698444000@taosskivalley.com
SUMMARY:Tone Ranger Ensemble
DESCRIPTION:Tone Ranger Ensemble with Support from Ph8 w/ the Bees & Locusts & Consoul Beats  \nJoin us for a night of electronic music for our very last show of the 2023 concert season here at the Mothership! Let’s go out with a bang and dance the night away Friday\, October 27th!  \nThis is the debut performance of Tone Ranger’s new ensemble featuring singer Melas Leukos and violinist Brayden Schmick.  \nTone Ranger’s music embodies the beauty of the desert – its sands\, suns\, stars\, and oases. Combining classic Americana instrumentation with house and ambient elements\, he presents an expansive sound\, reaching ecstatic peaks and deep sonic valleys. Based in Santa Fe\, Tone Ranger is one of the most in-demand live electronic acts emerging from the Southwest. He can be found in strange art installations\, on major stages\, performing out in the desert or at experimental drive-in theaters. \nPh8 w/ the Bees & Locusts  \nCody Mirabal is an Indigenous musician from the village of Taos Pueblo in Northern New Mexico. Cody also know as “PH8” is a self taught artist who has been writing and producing music for over two decades. His musical passion began at a young age when he was inspired by the rising hip-hop scene of the early 90’s. He chose the graffiti tag for himself “PH8” which was his twist on the word Fate. Cody’s creativity with rhythmic beats and song concepts lead him to form the Taos based hip-hop group PO.10.CEE\, in which he performed and toured with traveling coast to coast. \nConsoul Beats  \nConSoul is a dj/producer who specializes in getting the dance floor grooving. Mixing a wide range of styles from disco\, house\, hip-hop and soul. ConSoul plays music that connects the crowd and keeps them moving.
URL:https://taosskivalley.com/event/tone-ranger-ensemble-tmb/
LOCATION:Taos Mothership\, 20 ABC Mesa Rd.\, El Prado\, NM\, 87529
CATEGORIES:Featured Event
ATTACH;FMTTYPE=image/jpeg:https://taosskivalley.com/wp-content/uploads/2023/10/tone-ranger-ensemble-tmb_event.jpg
END:VEVENT
BEGIN:VEVENT
DTSTART;TZID=America/Denver:20231027T190000
DTEND;TZID=America/Denver:20231027T220000
DTSTAMP:20260421T064439
CREATED:20231024T035453Z
LAST-MODIFIED:20231027T221137Z
UID:10000793-1698433200-1698444000@taosskivalley.com
SUMMARY:Halloween Music Pot at KTAOS
DESCRIPTION:Halloween Music Pot at KTAOS Solar Center.\nIriebellion\, Foggy Memory Boys & R.A.W.A. \n7:00pm\n$10 with a costume\n$15 without a costume
URL:https://taosskivalley.com/event/halloween-music-pot-at-ktaos/
LOCATION:DALEEE KTAOS\, 9 NM Hwy. 150\, El Prado\, NM\, 87529\, United States
CATEGORIES:Featured Event
ATTACH;FMTTYPE=image/jpeg:https://taosskivalley.com/wp-content/uploads/2023/10/daleee-ktaos-halloween-music-pot_event.jpg
END:VEVENT
BEGIN:VEVENT
DTSTART;TZID=America/Denver:20231031T170000
DTEND;TZID=America/Denver:20231031T190000
DTSTAMP:20260421T064439
CREATED:20231011T175139Z
LAST-MODIFIED:20231030T155338Z
UID:10000785-1698771600-1698778800@taosskivalley.com
SUMMARY:Creepy Crawly Ale House Halloween Party
DESCRIPTION:Join us on Halloween night at Door 38 Pizza at Taos Ale House in Taos Ski Valley! Cocktails\, Costumes\, and Crazy Fun! Wear your best costume for a chance to win a prize. Spooky Cocktails and Tasty Treats!
URL:https://taosskivalley.com/event/halloween-party-taos-ale-house-tsv/
LOCATION:Door 38 Pizza-Taos Ale House\, 105 Sutton Place\, Taos Ski Valley\, NM\, 87525
CATEGORIES:Featured Event
ATTACH;FMTTYPE=image/png:https://taosskivalley.com/wp-content/uploads/2023/10/halloween-party-door38-taos-ale-house-tsv_event.png
END:VEVENT
END:VCALENDAR