BEGIN:VCALENDAR
VERSION:2.0
PRODID:-//Taos Ski Valley - ECPv6.15.20//NONSGML v1.0//EN
CALSCALE:GREGORIAN
METHOD:PUBLISH
X-ORIGINAL-URL:https://taosskivalley.com
X-WR-CALDESC:Events for Taos Ski Valley
REFRESH-INTERVAL;VALUE=DURATION:PT1H
X-Robots-Tag:noindex
X-PUBLISHED-TTL:PT1H
BEGIN:VTIMEZONE
TZID:UTC
BEGIN:STANDARD
TZOFFSETFROM:+0000
TZOFFSETTO:+0000
TZNAME:UTC
DTSTART:20230101T000000
END:STANDARD
END:VTIMEZONE
BEGIN:VTIMEZONE
TZID:America/Denver
BEGIN:DAYLIGHT
TZOFFSETFROM:-0700
TZOFFSETTO:-0600
TZNAME:MDT
DTSTART:20230312T090000
END:DAYLIGHT
BEGIN:STANDARD
TZOFFSETFROM:-0600
TZOFFSETTO:-0700
TZNAME:MST
DTSTART:20231105T080000
END:STANDARD
BEGIN:DAYLIGHT
TZOFFSETFROM:-0700
TZOFFSETTO:-0600
TZNAME:MDT
DTSTART:20240310T090000
END:DAYLIGHT
BEGIN:STANDARD
TZOFFSETFROM:-0600
TZOFFSETTO:-0700
TZNAME:MST
DTSTART:20241103T080000
END:STANDARD
BEGIN:DAYLIGHT
TZOFFSETFROM:-0700
TZOFFSETTO:-0600
TZNAME:MDT
DTSTART:20250309T090000
END:DAYLIGHT
BEGIN:STANDARD
TZOFFSETFROM:-0600
TZOFFSETTO:-0700
TZNAME:MST
DTSTART:20251102T080000
END:STANDARD
END:VTIMEZONE
BEGIN:VEVENT
DTSTART;TZID=UTC:20240704T100000
DTEND;TZID=UTC:20240704T160000
DTSTAMP:20260421T042110
CREATED:20240617T000245Z
LAST-MODIFIED:20240617T000739Z
UID:10001415-1720087200-1720108800@taosskivalley.com
SUMMARY:FREE Photo Scavenger Hunt
DESCRIPTION:Pick up your photo scavenger hunt list at the Lake Fork Ticket Office. Have fun finding flora and fauna\, along with items that make us uniquely TAOS!
URL:https://taosskivalley.com/event/photo-scavenger-hunt/2024-07-04/
LOCATION:Lake Fork Ticket Office\, Lower Resort Plaza at Thunderbird Road\, Taos Ski Valley\, NM\, 87525
END:VEVENT
BEGIN:VEVENT
DTSTART;TZID=America/Denver:20240704T170000
DTEND;TZID=America/Denver:20240704T220000
DTSTAMP:20260421T042110
CREATED:20240701T214035Z
LAST-MODIFIED:20240704T025701Z
UID:10002103-1720112400-1720130400@taosskivalley.com
SUMMARY:FREE Taos Hometown: 4th of July Celebration with Fruition
DESCRIPTION:Taos Hometown 4th of July Celebration with Fruition\, Last To Know\, Chris Arellano Band\, and PH8 and the Bees & Locusts \nJuly 4\, 2024 • 5:00 pm at Kit Carson Park \nDOORS 4:00pm  •  ALL AGES \nTHIS IS A FREE EVENT! \nFor more information and venue rules\, CLICK HERE. \nTown of Taos Fireworks Show poster \n  \nFRUITION \nFruition’s three-part harmonies and impromptu performances captivated crowds on street corners and in campgrounds in the Pacific Northwest initially\, but their 15-year journey has seen them emerge as a singular force in Americana on some of the nation’s biggest stages. Channeling the delicate\, playful\, and honest focus on songcraft and vocal harmony of groups like the Beatles and CSNY\, the band continues to create timeless and genuine folk\, roots\, and rock ‘n roll. \nDistinguished by three accomplished songwriters and a rhythm section that serves each song with a finely tuned attention to detail and aesthetic\, Fruition manages to consistently release a body of work that is both uniquely their own and instantly familiar. 2024 will see them release a brand new studio album\, while preparing a second album for 2025 and a full complement of festival and headline touring. \nLAST TO KNOW \nLast to Know is: Scott Barady on percussion\, Howie Roemer on keyboards\, Randy Morris on drums and vocals\, Curt West on bass\, Dan Irion on mandolin and vocals\, and Tom Pryor on guitar\, pedal steel\, and vocals. \nLast to Know is a six-piece band blending the heartiest world rhythms with jam-band passion\, while muddying the lines between Americana roots music\, disco\, funk and bluegrass. \nLTK is discofunkgrass. \nCHRIS ARELLANO BAND \nChris Arellano’s deeply personal Americana weaves together the Norteno music of his Northern New Mexico upbringing with alternative country and blues influences for a signature style that he calls “Nuevo Americana.” Fused with song and story\, Spanish and English\, his transcendent lyrics move listeners with emotion and passion. \nPH8 AND THE BEES & LOCUSTS \nA full band with a rapper at the forefront isn’t a common sight\, but Ph8 w/ The Bees & Locusts is just that. They describe their sound as organic hip hop crossed with soul\, funk\, influenced by traditional native rhythms. Their original compositions\, and renditions of various classic hit songs\, fill the air with energy and take the listener on a personal musical journey to the unexpected. The majority of their set is designed for any and every human to dance to\, groove to\, and let loose.
URL:https://taosskivalley.com/event/free-taos-hometown-4th-of-july-celebration-with-fruition/
LOCATION:Red Willow Park\, Town of Taos\, 211 Paseo Del Pueblo Norte\, Taos\, NM\, 87571
CATEGORIES:Featured Event
ATTACH;FMTTYPE=image/jpeg:https://taosskivalley.com/wp-content/uploads/2024/07/taos-july-4-celebration-2024_event.jpg
END:VEVENT
BEGIN:VEVENT
DTSTART;TZID=UTC:20240704T180000
DTEND;TZID=UTC:20240704T200000
DTSTAMP:20260421T042110
CREATED:20240613T171758Z
LAST-MODIFIED:20240724T163917Z
UID:10002178-1720116000-1720123200@taosskivalley.com
SUMMARY:Taos Plaza Live
DESCRIPTION:Taos County Chamber of Commerce presents Taos Plaza Live every Thursday evening from June 27 thru August 8\, 2024 (except July 4 & July 18)\, at the Taos Plaza Gazebo. 6:00pm – 8:00pm (unless noted). A free\, no alcohol community music concert event. Bring chairs and your dancing shoes. \nBand Schedule: \nJune 27 • 6-7pm – Ocotillo\nJune 27 • 7-8pm – Last to Know\nJuly 4  • No Taos Plaza Live \nJuly 11 • 6-7pm – UZ Band\nJuly 11 • 7-8pm – Four Letter Word\nJuly 18 • No Taos Plaza Live – Enjoy Fiestas de Taos\nJuly 25 • 6-7pm – Stone Daddy\nJuly 25 • 7-8pm – Jimmy Stadler\, Chris Arellano Band\nAugust 1 • 5:45-6:30pm – Gabriella Salazar Band\nAugust 1 • 6:30-8pm – Katy P & The Business\nAugust 8 • 6-7pm – Shannon & Southern Soul\nAugust 8 • 7-8pm – Chicken Sedan
URL:https://taosskivalley.com/event/taos-plaza-live-2/2024-07-04/
LOCATION:Town of Taos
ATTACH;FMTTYPE=image/jpeg:https://taosskivalley.com/wp-content/uploads/2023/06/taos-plaza-live_event.jpg
END:VEVENT
BEGIN:VEVENT
DTSTART;TZID=America/Denver:20240704T200000
DTEND;TZID=America/Denver:20240705T000000
DTSTAMP:20260421T042110
CREATED:20240429T155059Z
LAST-MODIFIED:20240917T173211Z
UID:10002302-1720123200-1720137600@taosskivalley.com
SUMMARY:Jueves De Baile Club Latin Night
DESCRIPTION:Every Thursday is Jueves De Baile Club Latin Night with DJ Julio Aragon! Vamos!\n$10 door\n+21
URL:https://taosskivalley.com/event/jueves-de-baile-daleee/2024-07-04/
LOCATION:DALEEE KTAOS\, 9 NM Hwy. 150\, El Prado\, NM\, 87529\, United States
ATTACH;FMTTYPE=image/jpeg:https://taosskivalley.com/wp-content/uploads/2024/04/jueves-de-baile-daleee_event.jpg
END:VEVENT
END:VCALENDAR