BEGIN:VCALENDAR
VERSION:2.0
PRODID:-//Taos Ski Valley - ECPv6.15.20//NONSGML v1.0//EN
CALSCALE:GREGORIAN
METHOD:PUBLISH
X-ORIGINAL-URL:https://taosskivalley.com
X-WR-CALDESC:Events for Taos Ski Valley
REFRESH-INTERVAL;VALUE=DURATION:PT1H
X-Robots-Tag:noindex
X-PUBLISHED-TTL:PT1H
BEGIN:VTIMEZONE
TZID:America/Denver
BEGIN:DAYLIGHT
TZOFFSETFROM:-0700
TZOFFSETTO:-0600
TZNAME:MDT
DTSTART:20230312T090000
END:DAYLIGHT
BEGIN:STANDARD
TZOFFSETFROM:-0600
TZOFFSETTO:-0700
TZNAME:MST
DTSTART:20231105T080000
END:STANDARD
BEGIN:DAYLIGHT
TZOFFSETFROM:-0700
TZOFFSETTO:-0600
TZNAME:MDT
DTSTART:20240310T090000
END:DAYLIGHT
BEGIN:STANDARD
TZOFFSETFROM:-0600
TZOFFSETTO:-0700
TZNAME:MST
DTSTART:20241103T080000
END:STANDARD
BEGIN:DAYLIGHT
TZOFFSETFROM:-0700
TZOFFSETTO:-0600
TZNAME:MDT
DTSTART:20250309T090000
END:DAYLIGHT
BEGIN:STANDARD
TZOFFSETFROM:-0600
TZOFFSETTO:-0700
TZNAME:MST
DTSTART:20251102T080000
END:STANDARD
END:VTIMEZONE
BEGIN:VEVENT
DTSTART;TZID=America/Denver:20240703T180000
DTEND;TZID=America/Denver:20240703T210000
DTSTAMP:20260419T072810
CREATED:20250221T165346Z
LAST-MODIFIED:20260323T214738Z
UID:10004278-1720029600-1720040400@taosskivalley.com
SUMMARY:Taos Bluegrass Jam
DESCRIPTION:Experience the iconic Taos Bluegrass Jam at DALEEE! Immerse yourself in the cozy\, rustic ambiance as melodies blend with irresistible aromas. A family-friendly\, free event where music enthusiasts and food lovers unite for an enchanting evening. Join us to celebrate tradition\, community\, and the harmony of great tastes and melodies. \nFree admission\nEvery Wednesday
URL:https://taosskivalley.com/event/taos-bluegrass-jam/2024-07-03/
LOCATION:DALEEE KTAOS\, 9 NM Hwy. 150\, El Prado\, NM\, 87529\, United States
ATTACH;FMTTYPE=image/jpeg:https://taosskivalley.com/wp-content/uploads/2025/02/bluegrass-jam-wednesday-daleee_event.jpg
END:VEVENT
BEGIN:VEVENT
DTSTART;TZID=America/Denver:20240703T183000
DTEND;TZID=America/Denver:20240703T193000
DTSTAMP:20260419T072810
CREATED:20250101T160024Z
LAST-MODIFIED:20250924T232300Z
UID:10001908-1720031400-1720035000@taosskivalley.com
SUMMARY:Trivia Night at Rolling Still Lounge
DESCRIPTION:Join us for Trivia Night every Wednesday with Gabby & Daniela at Rolling Still Lounge in Taos. Limited seating arrive early Fun prizes! 6:30-7:30pm
URL:https://taosskivalley.com/event/trivia-night-at-rolling-still-lounge/2024-07-03/
LOCATION:Rolling Still Lounge-Taos location\, 110 Paseo Del Pueblo Norte\, Taos\, NM\, 87571
ATTACH;FMTTYPE=image/jpeg:https://taosskivalley.com/wp-content/uploads/2025/04/rolling-still-trivia-wednesdays-taos_event.jpg
END:VEVENT
BEGIN:VEVENT
DTSTART;TZID=America/Denver:20240703T183000
DTEND;TZID=America/Denver:20240703T223000
DTSTAMP:20260419T072810
CREATED:20240318T225058Z
LAST-MODIFIED:20240318T225058Z
UID:10001623-1720031400-1720045800@taosskivalley.com
SUMMARY:The Avett Brothers with Iron & Wine
DESCRIPTION:Three-time Grammy Award nominees The Avett Brothers made mainstream waves with their 2009 major label debut I And Love And You. In 2012\, The Carpenter hit #4 on the Billboard Top 200\, followed by Magpie And The Dandelion in 2013\, which debuted at #5. In 2016\, the band was inducted into the North Carolina Music Hall of Fame. 2017’s documentary May It Last: A Portrait of The Avett Brothers (co-directed by Judd Apatow and Michael Bonfiglio) chronicles the process of writing 2016’s True Sadness (which debuted at #1 on Billboard’s Top Albums chart\, #1 Rock Albums\, #3 on the Billboard 200 & scored 2 Grammy noms). The film was released theatrically and on HBO to rave reviews\, and is now available on DVD/Blu-Ray/VOD. The band’s 10th studio album Closer Than Together features single “High Steppin’” which reached #1 on the Americana Radio Singles Chart. Their latest album The Third Gleam debuted at #1 on Billboard’s Americana/Folk Albums chart\, #1 Rock Albums\, and #1 Vinyl Albums. Single “Victory” hit #1 on the Americana Radio Singles Chart. The Avett Brothers stayed connected with fans amidst the COVID-19 pandemic by playing two sold out drive-in shows at Charlotte Motor Speedway in the span of three months. Swept Away – a musical inspired by & featuring the music of The Avett Brothers – premiered in January 2022 at Berkeley Repertory Theatre to rave reviews from audiences and critics and is currently in D.C. for a limited pre-Broadway engagement at Arena Stage. \nSam Beam is a singer-songwriter who has been creating music as Iron & Wine for over a decade. Through the course of seven albums\, numerous EPs and singles\, and the initial volumes of an Archive Series – Iron & Wine has captured the emotion and imagination of listeners with distinctly cinematic songs.
URL:https://taosskivalley.com/event/the-avett-brothers/
LOCATION:Red Willow Park\, Town of Taos\, 211 Paseo Del Pueblo Norte\, Taos\, NM\, 87571
ATTACH;FMTTYPE=image/jpeg:https://taosskivalley.com/wp-content/uploads/2024/03/the-avett-brothers_event.jpg
END:VEVENT
END:VCALENDAR